BEGIN:VCALENDAR
VERSION:2.0
PRODID:EVENTFROG//EVENT//ICAL
BEGIN:VEVENT
UID:20260422T060544Z-7421905227253547838@eventfrog.at
DTSTAMP:20260422T060544Z
DTSTART:20260429T170000Z
SUMMARY:46 rue de Berne
DESCRIPTION:D’après les lettres de Grisélidis Réal à Jean-Luc Hennig, adaptation et mise en scène : Françoise Courvoisier. Avec Martine Schambacher et Françoise Courvoisier.\n\nhttps://eventfrog.at/fr/p/theatre-scene/theatre/46-rue-de-berne-7421905227253547838.html
LOCATION:Les Amis musiquethéâtre
GEO:46.185198;6.139926
URL:https://eventfrog.at/fr/p/theatre-scene/theatre/46-rue-de-berne-7421905227253547838.html
END:VEVENT
END:VCALENDAR