BEGIN:VCALENDAR
VERSION:2.0
PRODID:EVENTFROG//EVENT//ICAL
BEGIN:VEVENT
UID:20260422T033951Z-7421493908075486463@eventfrog.at
DTSTAMP:20260422T033951Z
DTSTART:20260423T170000Z
DTEND:20260423T200000Z
SUMMARY:Brennessel, eine bestechende Schönheit
DESCRIPTION:Abendanlass über eine bestechende Schönheit mit \n\nhttps://eventfrog.at/de/p/diverses/brennessel-eine-bestechende-schoenheit-7421493908075486463.html
LOCATION:Archehof Rüegg
GEO:47.242565;8.895355
URL:https://eventfrog.at/de/p/diverses/brennessel-eine-bestechende-schoenheit-7421493908075486463.html
END:VEVENT
END:VCALENDAR