BEGIN:VCALENDAR
VERSION:2.0
PRODID:EVENTFROG//EVENT//ICAL
BEGIN:VEVENT
UID:20260422T014007Z-7420582350583541768@eventfrog.at
DTSTAMP:20260422T014007Z
DTSTART:20260425T180000Z
DTEND:20260426T000000Z
SUMMARY:Soirée Tropicale
DESCRIPTION:Die Soirée Tropicale bietet mit DJs Kaya M, Rootspro und Mo Pálido tropische Vintage-Sounds aus Reggae, Karibik und Afrika.\n\nhttps://eventfrog.at/de/p/partys/reggae-ska/soiree-tropicale-7420582350583541768.html
LOCATION:Spinnerei
GEO:46.968777;7.441494
URL:https://eventfrog.at/de/p/partys/reggae-ska/soiree-tropicale-7420582350583541768.html
END:VEVENT
END:VCALENDAR