BEGIN:VCALENDAR
VERSION:2.0
PRODID:EVENTFROG//EVENT//ICAL
BEGIN:VEVENT
UID:20260422T055816Z-7419324143638708359@eventfrog.at
DTSTAMP:20260422T055816Z
DTSTART:20260422T140000Z
SUMMARY:FCSG Fan Day
DESCRIPTION:Ein Nachmittag, an dem der FCSG nicht nur auf dem Rasen, sondern mitten unter den Fans spielt – vorbeikommen, mitfiebern, mitmachen.\n\nhttps://eventfrog.at/de/p/diverses/fcsg-fan-day-7419324143638708359.html
LOCATION:Revier Säntispark
GEO:47.417447;9.314297
URL:https://eventfrog.at/de/p/diverses/fcsg-fan-day-7419324143638708359.html
END:VEVENT
END:VCALENDAR