BEGIN:VCALENDAR
VERSION:2.0
PRODID:EVENTFROG//EVENT//ICAL
BEGIN:VEVENT
UID:20260422T032627Z-7418933327590080167@eventfrog.at
DTSTAMP:20260422T032627Z
DTSTART:20260608T064500Z
DTEND:20260612T150000Z
SUMMARY:ICT4S 2026 - Virtual Ticket
DESCRIPTION:ICT4S brings together researchers, industry, government and civil society to analyze, design and deploy ICT for environmental, social and economic sustainability.\n\nhttps://eventfrog.at/de/p/wissenschaft-und-technik/ict4s-2026-virtual-ticket-7418933327590080167.html
LOCATION:Online
URL:https://eventfrog.at/de/p/wissenschaft-und-technik/ict4s-2026-virtual-ticket-7418933327590080167.html
END:VEVENT
END:VCALENDAR