BEGIN:VCALENDAR
VERSION:2.0
PRODID:EVENTFROG//EVENT//ICAL
BEGIN:VEVENT
UID:20260422T045247Z-7414418056984676223@eventfrog.at
DTSTAMP:20260422T045247Z
DTSTART:20260422T173000Z
DTEND:20260422T200000Z
SUMMARY:Musig im Hopp mit TIGHTROPE
DESCRIPTION:Die Band Tightrope spielt seit 2013 Blues-Rock mit funkigen und souligern Einflüssen, inspiriert von Stevie Ray Vaughan und Kollegen.\n\nhttps://eventfrog.at/de/p/konzerte/jazz-blues/musig-im-hopp-mit-tightrope-7414418056984676223.html
LOCATION:Hopp. Events & mehr
GEO:47.435930;9.638300
URL:https://eventfrog.at/de/p/konzerte/jazz-blues/musig-im-hopp-mit-tightrope-7414418056984676223.html
END:VEVENT
END:VCALENDAR