BEGIN:VCALENDAR
VERSION:2.0
PRODID:EVENTFROG//EVENT//ICAL
BEGIN:VEVENT
UID:20260422T033951Z-7412878501785674129@eventfrog.at
DTSTAMP:20260422T033951Z
DTSTART:20260423T180000Z
DTEND:20260423T191500Z
SUMMARY:WE ARE THE CHAMPIONS  - COMPAGNIE PIERRE-DO BOURGKNECHT
DESCRIPTION:Conférence musico-sportive\n\nhttps://eventfrog.at/fr/p/theatre-scene/evenement-scenique/we-are-the-champions-compagnie-pierre-do-bourgknecht-7412878501785674129.html
LOCATION:Théâtre du PAM
GEO:46.609900;6.507140
URL:https://eventfrog.at/fr/p/theatre-scene/evenement-scenique/we-are-the-champions-compagnie-pierre-do-bourgknecht-7412878501785674129.html
END:VEVENT
END:VCALENDAR