BEGIN:VCALENDAR
VERSION:2.0
PRODID:EVENTFROG//EVENT//ICAL
BEGIN:VEVENT
UID:20260422T055952Z-7411030690874057919@eventfrog.at
DTSTAMP:20260422T055952Z
DTSTART:20260422T123000Z
DTEND:20260422T140000Z
SUMMARY:Dr Kasperli rettet Grosis Geburtstag, verschoben. 1. April
DESCRIPTION:Ein fröhliches Mitmach-Kasperlitheater\n\nhttps://eventfrog.at/de/p/kinderveranstaltungen/puppentheater/dr-kasperli-rettet-grosis-geburtstag-verschoben-1-april-7411030690874057919.html
LOCATION:Gwundernäslis Kasperlikeller im Landhaus Steffisburg
GEO:46.780672;7.634150
URL:https://eventfrog.at/de/p/kinderveranstaltungen/puppentheater/dr-kasperli-rettet-grosis-geburtstag-verschoben-1-april-7411030690874057919.html
END:VEVENT
END:VCALENDAR