BEGIN:VCALENDAR
VERSION:2.0
PRODID:EVENTFROG//EVENT//ICAL
BEGIN:VEVENT
UID:20260422T044116Z-7409155665648734132@eventfrog.at
DTSTAMP:20260422T044116Z
DTSTART:20260423T180000Z
DTEND:20260423T200000Z
SUMMARY:Susanne Odermatt und Patrick Boog: Die Tür nebenan
DESCRIPTION:Moderne Komödie\n\n\nhttps://eventfrog.at/de/p/theater-buehne/theater/susanne-odermatt-und-patrick-boog-die-tuer-nebenan-7409155665648734132.html
LOCATION:Restaurant Werk 1
GEO:47.415259;9.253475
URL:https://eventfrog.at/de/p/theater-buehne/theater/susanne-odermatt-und-patrick-boog-die-tuer-nebenan-7409155665648734132.html
END:VEVENT
END:VCALENDAR