BEGIN:VCALENDAR
VERSION:2.0
PRODID:EVENTFROG//EVENT//ICAL
BEGIN:VEVENT
UID:20260422T055818Z-7408768740739832121@eventfrog.at
DTSTAMP:20260422T055818Z
DTSTART:20260422T180000Z
SUMMARY:Rod MacDonald & Mark Dan - Folk aus den USA
DESCRIPTION:Rod MacDonald, erfahrener Folk-Songwriter aus New York, präsentiert engagierte, politisch geprägte Songs auf Europatournee.\n\nhttps://eventfrog.at/de/p/konzerte/folk/rod-macdonald-mark-dan-folk-aus-den-usa-7408768740739832121.html
LOCATION:Werkstatt Chur
GEO:46.848620;9.530680
URL:https://eventfrog.at/de/p/konzerte/folk/rod-macdonald-mark-dan-folk-aus-den-usa-7408768740739832121.html
END:VEVENT
END:VCALENDAR