BEGIN:VCALENDAR
VERSION:2.0
PRODID:EVENTFROG//EVENT//ICAL
BEGIN:VEVENT
UID:20260422T032631Z-7408578663145327077@eventfrog.at
DTSTAMP:20260422T032631Z
DTSTART:20260423T181500Z
DTEND:20260423T200000Z
SUMMARY:tango²
DESCRIPTION:Authentische argentinische Leidenschaft – Klangfarben und Emotionen, welche von Vater und Sohn einfühlsam, mit Virtuosität und höchster Musikalität in blindem Zusammenspiel interpretiert werden.\n\nhttps://eventfrog.at/de/p/konzerte/jazz-blues/tango-7408578663145327077.html
LOCATION:Kulturkeller LaMarotte
GEO:47.278076;8.451967
URL:https://eventfrog.at/de/p/konzerte/jazz-blues/tango-7408578663145327077.html
END:VEVENT
END:VCALENDAR