BEGIN:VCALENDAR
VERSION:2.0
PRODID:EVENTFROG//EVENT//ICAL
BEGIN:VEVENT
UID:20260422T045251Z-7403513745085836820@eventfrog.at
DTSTAMP:20260422T045251Z
DTSTART:20260422T140000Z
DTEND:20260422T180000Z
SUMMARY:AI Agents Summit 2026
DESCRIPTION:Up to date bleiben! Am 22. April 2026 in Luzern zeigt der "AI Agent Summit" Aktuelles aus der Agentic-Welt, KI-Tools und Automatisierungen für Forschung, Lehre und Praxis. \n\nhttps://eventfrog.at/de/p/wissenschaft-und-technik/ai-agents-summit-2026-7403513745085836820.html
LOCATION:HSLU Campus Luzern Bahnhof Perron
GEO:47.046998;8.312674
URL:https://eventfrog.at/de/p/wissenschaft-und-technik/ai-agents-summit-2026-7403513745085836820.html
END:VEVENT
END:VCALENDAR