BEGIN:VCALENDAR
VERSION:2.0
PRODID:EVENTFROG//EVENT//ICAL
BEGIN:VEVENT
UID:20260419T141946Z-7398022245816239231@eventfrog.at
DTSTAMP:20260419T141946Z
DTSTART:20261121T080000Z
DTEND:20261121T130000Z
SUMMARY:Repair Aktion im Parktheater - Reparieren statt wegwerfen!
DESCRIPTION:Repair Café Grenchen fördert Nachhaltigkeit durch regelmässige Veranstaltungen, bei denen Experten defekte Gegenstände reparieren. Termine auf der Webseite.\n\nhttps://eventfrog.at/de/p/wissenschaft-und-technik/repair-aktion-im-parktheater-reparieren-statt-wegwerfen-7398022245816239231.html
LOCATION:Grenchen, Parktheater
GEO:47.191718;7.391284
URL:https://eventfrog.at/de/p/wissenschaft-und-technik/repair-aktion-im-parktheater-reparieren-statt-wegwerfen-7398022245816239231.html
END:VEVENT
END:VCALENDAR