BEGIN:VCALENDAR
VERSION:2.0
PRODID:EVENTFROG//EVENT//ICAL
BEGIN:VEVENT
UID:20260422T013157Z-7389298272374945019@eventfrog.at
DTSTAMP:20260422T013157Z
DTSTART:20260608T064500Z
DTEND:20260612T150000Z
SUMMARY:ICT4S 2026 - Full Week (Monday - Friday)
DESCRIPTION:ICT4S brings together researchers, industry, government and civil society to analyze, design and deploy ICT for environmental, social and economic sustainability.\n\nhttps://eventfrog.at/de/p/wissenschaft-und-technik/ict4s-2026-full-week-monday-friday-7389298272374945019.html
LOCATION:Bern University of Applied Sciences, Business School
GEO:46.941891;7.440584
URL:https://eventfrog.at/de/p/wissenschaft-und-technik/ict4s-2026-full-week-monday-friday-7389298272374945019.html
END:VEVENT
END:VCALENDAR