BEGIN:VCALENDAR
VERSION:2.0
PRODID:EVENTFROG//EVENT//ICAL
BEGIN:VEVENT
UID:20260422T050744Z-7389212701052951549@eventfrog.at
DTSTAMP:20260422T050744Z
DTSTART:20260423T180000Z
DTEND:20260423T200000Z
SUMMARY:Anima Dolce (CH)
DESCRIPTION:ANIMA DOLCE (CH) – EP TAUFE IM GASWERK\nSUPPORT: RACHEL CARMEN (CH)\n\nhttps://eventfrog.at/de/p/konzerte/pop-rock/anima-dolce-ch-7389212701052951549.html
LOCATION:Gaswerk Eventbar GmbH
GEO:47.029782;8.629096
URL:https://eventfrog.at/de/p/konzerte/pop-rock/anima-dolce-ch-7389212701052951549.html
END:VEVENT
END:VCALENDAR