BEGIN:VCALENDAR
VERSION:2.0
PRODID:EVENTFROG//EVENT//ICAL
BEGIN:VEVENT
UID:20260422T013202Z-7387103124224255001@eventfrog.at
DTSTAMP:20260422T013202Z
DTSTART:20260612T070000Z
DTEND:20260612T150000Z
SUMMARY:ICT4S 2026 - Friday: Workshop & Doctoral Symposium Day
DESCRIPTION:Workshop and doctoral symposium day of the ICT4S 2026.\n\nhttps://eventfrog.at/de/p/wissenschaft-und-technik/ict4s-2026-friday-workshop-doctoral-symposium-day-7387103124224255001.html
LOCATION:Bern University of Applied Sciences, Business School
GEO:46.941891;7.440584
URL:https://eventfrog.at/de/p/wissenschaft-und-technik/ict4s-2026-friday-workshop-doctoral-symposium-day-7387103124224255001.html
END:VEVENT
END:VCALENDAR