BEGIN:VCALENDAR
VERSION:2.0
PRODID:EVENTFROG//EVENT//ICAL
BEGIN:VEVENT
UID:20260422T013152Z-7387101140641415026@eventfrog.at
DTSTAMP:20260422T013152Z
DTSTART:20260611T070000Z
DTEND:20260611T150000Z
SUMMARY:ICT4S 2026 - Thursday
DESCRIPTION:The third out of three research insight days.\n\nhttps://eventfrog.at/de/p/wissenschaft-und-technik/ict4s-2026-thursday-7387101140641415026.html
LOCATION:Bern University of Applied Sciences, Business School
GEO:46.941891;7.440584
URL:https://eventfrog.at/de/p/wissenschaft-und-technik/ict4s-2026-thursday-7387101140641415026.html
END:VEVENT
END:VCALENDAR