BEGIN:VCALENDAR
VERSION:2.0
PRODID:EVENTFROG//EVENT//ICAL
BEGIN:VEVENT
UID:20260422T013218Z-7387098808121860777@eventfrog.at
DTSTAMP:20260422T013218Z
DTSTART:20260610T070000Z
DTEND:20260610T200000Z
SUMMARY:ICT4S 2026 - Wednesday
DESCRIPTION:The second out of three research insight days. \n\nhttps://eventfrog.at/de/p/wissenschaft-und-technik/ict4s-2026-wednesday-7387098808121860777.html
LOCATION:Bern University of Applied Sciences, Business School
GEO:46.941891;7.440584
URL:https://eventfrog.at/de/p/wissenschaft-und-technik/ict4s-2026-wednesday-7387098808121860777.html
END:VEVENT
END:VCALENDAR