BEGIN:VCALENDAR
VERSION:2.0
PRODID:EVENTFROG//EVENT//ICAL
BEGIN:VEVENT
UID:20260422T013153Z-7386381854872487655@eventfrog.at
DTSTAMP:20260422T013153Z
DTSTART:20260609T070000Z
DTEND:20260609T150000Z
SUMMARY:ICT4S 2026 - Tuesday
DESCRIPTION:The first out of three research insight days. \n\nhttps://eventfrog.at/en/p/science-and-technology/ict4s-2026-tuesday-7386381854872487655.html
LOCATION:Bern University of Applied Sciences, Business School
GEO:46.941891;7.440584
URL:https://eventfrog.at/en/p/science-and-technology/ict4s-2026-tuesday-7386381854872487655.html
END:VEVENT
END:VCALENDAR