BEGIN:VCALENDAR
VERSION:2.0
PRODID:EVENTFROG//EVENT//ICAL
BEGIN:VEVENT
UID:20260422T013154Z-7386380831571372073@eventfrog.at
DTSTAMP:20260422T013154Z
DTSTART:20260608T070000Z
DTEND:20260608T170000Z
SUMMARY:ICT4S 2026 - Monday: Industry & Policy Leaders Day
DESCRIPTION:The  Industry & Policy Leaders Day combines keynotes, panels and breakout sessions that intend to provide a forum for exchange across research, industry, politics, administration and civil society.\n\nhttps://eventfrog.at/en/p/science-and-technology/ict4s-2026-monday-industry-policy-leaders-day-7386380831571372073.html
LOCATION:Bern University of Applied Sciences, Business School
GEO:46.941891;7.440584
URL:https://eventfrog.at/en/p/science-and-technology/ict4s-2026-monday-industry-policy-leaders-day-7386380831571372073.html
END:VEVENT
END:VCALENDAR