BEGIN:VCALENDAR
VERSION:2.0
PRODID:EVENTFROG//EVENT//ICAL
BEGIN:VEVENT
UID:20260424T124808Z-7366394403039015636@eventfrog.at
DTSTAMP:20260424T124808Z
DTSTART:20260520T180000Z
SUMMARY:Peach Weber - King of Gäx
DESCRIPTION:Das Schweizer Urgestein der Comedy stattet mit seinem 17. Programm Basel nochmals einen Besuch ab.\n\nhttps://eventfrog.at/de/p/theater-buehne/comedy-kabarett/peach-weber-king-of-gaex-7366394403039015636.html
LOCATION:Theater Fauteuil
GEO:47.557349;7.586407
URL:https://eventfrog.at/de/p/theater-buehne/comedy-kabarett/peach-weber-king-of-gaex-7366394403039015636.html
END:VEVENT
END:VCALENDAR