BEGIN:VCALENDAR
VERSION:2.0
PRODID:EVENTFROG//EVENT//ICAL
BEGIN:VEVENT
UID:20260422T060056Z-7358976129007358955@eventfrog.at
DTSTAMP:20260422T060056Z
DTSTART:20260422T160000Z
SUMMARY:Mittwochs auf der Postpost
DESCRIPTION:3 palotin 153 è.p.: Trolls, pantins\n\nhttps://eventfrog.at/de/p/diverses/mittwochs-auf-der-postpost-7358976129007358955.html
LOCATION:Point Jaune Museum
GEO:47.425145;9.383687
URL:https://eventfrog.at/de/p/diverses/mittwochs-auf-der-postpost-7358976129007358955.html
END:VEVENT
END:VCALENDAR