BEGIN:VCALENDAR
VERSION:2.0
PRODID:EVENTFROG//EVENTGROUP//ICAL
BEGIN:VEVENT
UID:20260424T163738Z-7453415647025878716@eventfrog.at
DTSTAMP:20260424T163738Z
DTSTART:20270409T180000Z
DTEND:20270409T200000Z
SUMMARY:MUMMENSCHANZ sagt "adieu!"
DESCRIPTION:Abschiedstournee nach 55 Jahren Theatergeschichte!t \n\nhttps://eventfrog.at/de/p/theater-buehne/theater/mummenschanz-sagt-adieu-7453415647025878716.html
LOCATION:KKThun
GEO:46.743241;7.629527
URL:https://eventfrog.at/de/p/theater-buehne/theater/mummenschanz-sagt-adieu-7453415647025878716.html
END:VEVENT
BEGIN:VEVENT
UID:20260424T163738Z-7453415867008743959@eventfrog.at
DTSTAMP:20260424T163738Z
DTSTART:20270410T130000Z
DTEND:20270410T150000Z
SUMMARY:MUMMENSCHANZ sagt "adieu!"
DESCRIPTION:Abschiedstournee nach 55 Jahren Theatergeschichte!t \n\nhttps://eventfrog.at/de/p/theater-buehne/theater/mummenschanz-sagt-adieu-7453415867008743959.html
LOCATION:KKThun
GEO:46.743241;7.629527
URL:https://eventfrog.at/de/p/theater-buehne/theater/mummenschanz-sagt-adieu-7453415867008743959.html
END:VEVENT
BEGIN:VEVENT
UID:20260424T163738Z-7453415867331706005@eventfrog.at
DTSTAMP:20260424T163738Z
DTSTART:20270410T180000Z
DTEND:20270410T200000Z
SUMMARY:MUMMENSCHANZ sagt "adieu!"
DESCRIPTION:Abschiedstournee nach 55 Jahren Theatergeschichte!t \n\nhttps://eventfrog.at/de/p/theater-buehne/theater/mummenschanz-sagt-adieu-7453415867331706005.html
LOCATION:KKThun
GEO:46.743241;7.629527
URL:https://eventfrog.at/de/p/theater-buehne/theater/mummenschanz-sagt-adieu-7453415867331706005.html
END:VEVENT
END:VCALENDAR