BEGIN:VCALENDAR
VERSION:2.0
PRODID:EVENTFROG//EVENTGROUP//ICAL
BEGIN:VEVENT
UID:20260424T140823Z-7453367752323025843@eventfrog.at
DTSTAMP:20260424T140823Z
DTSTART:20260811T120000Z
DTEND:20260811T153000Z
SUMMARY:Dalbe Dyych
DESCRIPTION:Jeweils am Dienstag entdecken wir mit den Kindern ab 5 Jahren den Naturraum am Dalbe Dyych im Lehenmattquartier, Treffpunkt ist am Spielplatz St. Albanteich.\n\nhttps://eventfrog.at/de/p/kinderveranstaltungen/familienveranstaltungen/dalbe-dyych-7453367752323025843.html
LOCATION:St. Albanteich Spielplatz
GEO:47.546778;7.619958
URL:https://eventfrog.at/de/p/kinderveranstaltungen/familienveranstaltungen/dalbe-dyych-7453367752323025843.html
END:VEVENT
BEGIN:VEVENT
UID:20260424T140823Z-7453367816143561069@eventfrog.at
DTSTAMP:20260424T140823Z
DTSTART:20260811T120000Z
DTEND:20260811T153000Z
SUMMARY:Dalbe Dyych
DESCRIPTION:Jeweils am Dienstag entdecken wir mit den Kindern ab 5 Jahren den Naturraum am Dalbe Dyych im Lehenmattquartier, Treffpunkt ist am Spielplatz St. Albanteich.\n\nhttps://eventfrog.at/de/p/kinderveranstaltungen/familienveranstaltungen/dalbe-dyych-7453367816143561069.html
LOCATION:St. Albanteich Spielplatz
GEO:47.546778;7.619958
URL:https://eventfrog.at/de/p/kinderveranstaltungen/familienveranstaltungen/dalbe-dyych-7453367816143561069.html
END:VEVENT
BEGIN:VEVENT
UID:20260424T140823Z-7453367816445551583@eventfrog.at
DTSTAMP:20260424T140823Z
DTSTART:20260818T120000Z
DTEND:20260818T153000Z
SUMMARY:Dalbe Dyych
DESCRIPTION:Jeweils am Dienstag entdecken wir mit den Kindern ab 5 Jahren den Naturraum am Dalbe Dyych im Lehenmattquartier, Treffpunkt ist am Spielplatz St. Albanteich.\n\nhttps://eventfrog.at/de/p/kinderveranstaltungen/familienveranstaltungen/dalbe-dyych-7453367816445551583.html
LOCATION:St. Albanteich Spielplatz
GEO:47.546778;7.619958
URL:https://eventfrog.at/de/p/kinderveranstaltungen/familienveranstaltungen/dalbe-dyych-7453367816445551583.html
END:VEVENT
BEGIN:VEVENT
UID:20260424T140823Z-7453367816571380775@eventfrog.at
DTSTAMP:20260424T140823Z
DTSTART:20260825T120000Z
DTEND:20260825T153000Z
SUMMARY:Dalbe Dyych
DESCRIPTION:Jeweils am Dienstag entdecken wir mit den Kindern ab 5 Jahren den Naturraum am Dalbe Dyych im Lehenmattquartier, Treffpunkt ist am Spielplatz St. Albanteich.\n\nhttps://eventfrog.at/de/p/kinderveranstaltungen/familienveranstaltungen/dalbe-dyych-7453367816571380775.html
LOCATION:St. Albanteich Spielplatz
GEO:47.546778;7.619958
URL:https://eventfrog.at/de/p/kinderveranstaltungen/familienveranstaltungen/dalbe-dyych-7453367816571380775.html
END:VEVENT
BEGIN:VEVENT
UID:20260424T140823Z-7453367816730764348@eventfrog.at
DTSTAMP:20260424T140823Z
DTSTART:20260901T120000Z
DTEND:20260901T153000Z
SUMMARY:Dalbe Dyych
DESCRIPTION:Jeweils am Dienstag entdecken wir mit den Kindern ab 5 Jahren den Naturraum am Dalbe Dyych im Lehenmattquartier, Treffpunkt ist am Spielplatz St. Albanteich.\n\nhttps://eventfrog.at/de/p/kinderveranstaltungen/familienveranstaltungen/dalbe-dyych-7453367816730764348.html
LOCATION:St. Albanteich Spielplatz
GEO:47.546778;7.619958
URL:https://eventfrog.at/de/p/kinderveranstaltungen/familienveranstaltungen/dalbe-dyych-7453367816730764348.html
END:VEVENT
BEGIN:VEVENT
UID:20260424T140823Z-7453367816864982088@eventfrog.at
DTSTAMP:20260424T140823Z
DTSTART:20260908T120000Z
DTEND:20260908T153000Z
SUMMARY:Dalbe Dyych
DESCRIPTION:Jeweils am Dienstag entdecken wir mit den Kindern ab 5 Jahren den Naturraum am Dalbe Dyych im Lehenmattquartier, Treffpunkt ist am Spielplatz St. Albanteich.\n\nhttps://eventfrog.at/de/p/kinderveranstaltungen/familienveranstaltungen/dalbe-dyych-7453367816864982088.html
LOCATION:St. Albanteich Spielplatz
GEO:47.546778;7.619958
URL:https://eventfrog.at/de/p/kinderveranstaltungen/familienveranstaltungen/dalbe-dyych-7453367816864982088.html
END:VEVENT
BEGIN:VEVENT
UID:20260424T140823Z-7453367817032754254@eventfrog.at
DTSTAMP:20260424T140823Z
DTSTART:20260915T120000Z
DTEND:20260915T153000Z
SUMMARY:Dalbe Dyych
DESCRIPTION:Jeweils am Dienstag entdecken wir mit den Kindern ab 5 Jahren den Naturraum am Dalbe Dyych im Lehenmattquartier, Treffpunkt ist am Spielplatz St. Albanteich.\n\nhttps://eventfrog.at/de/p/kinderveranstaltungen/familienveranstaltungen/dalbe-dyych-7453367817032754254.html
LOCATION:St. Albanteich Spielplatz
GEO:47.546778;7.619958
URL:https://eventfrog.at/de/p/kinderveranstaltungen/familienveranstaltungen/dalbe-dyych-7453367817032754254.html
END:VEVENT
BEGIN:VEVENT
UID:20260424T140823Z-7453367817154389153@eventfrog.at
DTSTAMP:20260424T140823Z
DTSTART:20260922T120000Z
DTEND:20260922T153000Z
SUMMARY:Dalbe Dyych
DESCRIPTION:Jeweils am Dienstag entdecken wir mit den Kindern ab 5 Jahren den Naturraum am Dalbe Dyych im Lehenmattquartier, Treffpunkt ist am Spielplatz St. Albanteich.\n\nhttps://eventfrog.at/de/p/kinderveranstaltungen/familienveranstaltungen/dalbe-dyych-7453367817154389153.html
LOCATION:St. Albanteich Spielplatz
GEO:47.546778;7.619958
URL:https://eventfrog.at/de/p/kinderveranstaltungen/familienveranstaltungen/dalbe-dyych-7453367817154389153.html
END:VEVENT
BEGIN:VEVENT
UID:20260424T140823Z-7453367817271829712@eventfrog.at
DTSTAMP:20260424T140823Z
DTSTART:20260929T120000Z
DTEND:20260929T153000Z
SUMMARY:Dalbe Dyych
DESCRIPTION:Jeweils am Dienstag entdecken wir mit den Kindern ab 5 Jahren den Naturraum am Dalbe Dyych im Lehenmattquartier, Treffpunkt ist am Spielplatz St. Albanteich.\n\nhttps://eventfrog.at/de/p/kinderveranstaltungen/familienveranstaltungen/dalbe-dyych-7453367817271829712.html
LOCATION:St. Albanteich Spielplatz
GEO:47.546778;7.619958
URL:https://eventfrog.at/de/p/kinderveranstaltungen/familienveranstaltungen/dalbe-dyych-7453367817271829712.html
END:VEVENT
BEGIN:VEVENT
UID:20260424T140823Z-7453367817397658834@eventfrog.at
DTSTAMP:20260424T140823Z
DTSTART:20261006T120000Z
DTEND:20261006T153000Z
SUMMARY:Dalbe Dyych
DESCRIPTION:Jeweils am Dienstag entdecken wir mit den Kindern ab 5 Jahren den Naturraum am Dalbe Dyych im Lehenmattquartier, Treffpunkt ist am Spielplatz St. Albanteich.\n\nhttps://eventfrog.at/de/p/kinderveranstaltungen/familienveranstaltungen/dalbe-dyych-7453367817397658834.html
LOCATION:St. Albanteich Spielplatz
GEO:47.546778;7.619958
URL:https://eventfrog.at/de/p/kinderveranstaltungen/familienveranstaltungen/dalbe-dyych-7453367817397658834.html
END:VEVENT
BEGIN:VEVENT
UID:20260424T140823Z-7453367817527682313@eventfrog.at
DTSTAMP:20260424T140823Z
DTSTART:20261013T120000Z
DTEND:20261013T153000Z
SUMMARY:Dalbe Dyych
DESCRIPTION:Jeweils am Dienstag entdecken wir mit den Kindern ab 5 Jahren den Naturraum am Dalbe Dyych im Lehenmattquartier, Treffpunkt ist am Spielplatz St. Albanteich.\n\nhttps://eventfrog.at/de/p/kinderveranstaltungen/familienveranstaltungen/dalbe-dyych-7453367817527682313.html
LOCATION:St. Albanteich Spielplatz
GEO:47.546778;7.619958
URL:https://eventfrog.at/de/p/kinderveranstaltungen/familienveranstaltungen/dalbe-dyych-7453367817527682313.html
END:VEVENT
BEGIN:VEVENT
UID:20260424T140823Z-7453367817657705776@eventfrog.at
DTSTAMP:20260424T140823Z
DTSTART:20261020T120000Z
DTEND:20261020T153000Z
SUMMARY:Dalbe Dyych
DESCRIPTION:Jeweils am Dienstag entdecken wir mit den Kindern ab 5 Jahren den Naturraum am Dalbe Dyych im Lehenmattquartier, Treffpunkt ist am Spielplatz St. Albanteich.\n\nhttps://eventfrog.at/de/p/kinderveranstaltungen/familienveranstaltungen/dalbe-dyych-7453367817657705776.html
LOCATION:St. Albanteich Spielplatz
GEO:47.546778;7.619958
URL:https://eventfrog.at/de/p/kinderveranstaltungen/familienveranstaltungen/dalbe-dyych-7453367817657705776.html
END:VEVENT
BEGIN:VEVENT
UID:20260424T140823Z-7453367817775146290@eventfrog.at
DTSTAMP:20260424T140823Z
DTSTART:20261027T130000Z
DTEND:20261027T163000Z
SUMMARY:Dalbe Dyych
DESCRIPTION:Jeweils am Dienstag entdecken wir mit den Kindern ab 5 Jahren den Naturraum am Dalbe Dyych im Lehenmattquartier, Treffpunkt ist am Spielplatz St. Albanteich.\n\nhttps://eventfrog.at/de/p/kinderveranstaltungen/familienveranstaltungen/dalbe-dyych-7453367817775146290.html
LOCATION:St. Albanteich Spielplatz
GEO:47.546778;7.619958
URL:https://eventfrog.at/de/p/kinderveranstaltungen/familienveranstaltungen/dalbe-dyych-7453367817775146290.html
END:VEVENT
END:VCALENDAR