BEGIN:VCALENDAR
VERSION:2.0
PRODID:EVENTFROG//EVENTGROUP//ICAL
BEGIN:VEVENT
UID:20260424T063612Z-7452977383978599891@eventfrog.at
DTSTAMP:20260424T063612Z
DTSTART:20260712T171500Z
DTEND:20260712T181500Z
SUMMARY:Floating & Soundbath in Winterthur / Schwimmbad Wolfensberg
DESCRIPTION:Calm down. Let go. Simply receive. - Erlebe eine entspannende Floating & Soundbath-Session auf dem Paddleboard oder am Boden mit sanften Klängen. Schwimmbad Wolfensberg Winterthur\n\nhttps://eventfrog.at/de/p/gesundheit-spiritualitaet/gesundheit-wohlbefinden/floating-soundbath-in-winterthur-schwimmbad-wolfensberg-7452977383978599891.html
LOCATION:Schwimmbad Wolfensberg
GEO:47.513416;8.715379
URL:https://eventfrog.at/de/p/gesundheit-spiritualitaet/gesundheit-wohlbefinden/floating-soundbath-in-winterthur-schwimmbad-wolfensberg-7452977383978599891.html
END:VEVENT
BEGIN:VEVENT
UID:20260424T063612Z-7452977412109800419@eventfrog.at
DTSTAMP:20260424T063612Z
DTSTART:20260726T171500Z
DTEND:20260726T181500Z
SUMMARY:Floating & Soundbath in Winterthur / Schwimmbad Wolfensberg
DESCRIPTION:Calm down. Leg go. Simply receive. - Erlebe eine entspannende Floating & Soundbath-Session auf dem Paddleboard oder am Boden mit sanften Klängen. Schwimmbad Wolfensberg Winterthur\n\nhttps://eventfrog.at/de/p/gesundheit-spiritualitaet/gesundheit-wohlbefinden/floating-soundbath-in-winterthur-schwimmbad-wolfensberg-7452977412109800419.html
LOCATION:Schwimmbad Wolfensberg
GEO:47.513416;8.715379
URL:https://eventfrog.at/de/p/gesundheit-spiritualitaet/gesundheit-wohlbefinden/floating-soundbath-in-winterthur-schwimmbad-wolfensberg-7452977412109800419.html
END:VEVENT
BEGIN:VEVENT
UID:20260424T063612Z-7452977412340487778@eventfrog.at
DTSTAMP:20260424T063612Z
DTSTART:20260809T171500Z
DTEND:20260809T181500Z
SUMMARY:Floating & Soundbath in Winterthur / Schwimmbad Wolfensberg
DESCRIPTION:Calm down. Leg go. Simply receive. - Erlebe eine entspannende Floating & Soundbath-Session auf dem Paddleboard oder am Boden mit sanften Klängen. Schwimmbad Wolfensberg Winterthur\n\nhttps://eventfrog.at/de/p/gesundheit-spiritualitaet/gesundheit-wohlbefinden/floating-soundbath-in-winterthur-schwimmbad-wolfensberg-7452977412340487778.html
LOCATION:Schwimmbad Wolfensberg
GEO:47.513416;8.715379
URL:https://eventfrog.at/de/p/gesundheit-spiritualitaet/gesundheit-wohlbefinden/floating-soundbath-in-winterthur-schwimmbad-wolfensberg-7452977412340487778.html
END:VEVENT
END:VCALENDAR