BEGIN:VCALENDAR
VERSION:2.0
PRODID:EVENTFROG//EVENTGROUP//ICAL
BEGIN:VEVENT
UID:20260423T095943Z-7452839942869264447@eventfrog.at
DTSTAMP:20260423T095943Z
DTSTART:20260426T130000Z
DTEND:20260426T140000Z
SUMMARY:Haus Blaues Wunder
DESCRIPTION:Haus Blaues Wunder\n\nhttps://eventfrog.at/de/p/theater-buehne/haus-blaues-wunder-7452839942869264447.html
LOCATION:Werkstatt
GEO:47.664496;9.177376
URL:https://eventfrog.at/de/p/theater-buehne/haus-blaues-wunder-7452839942869264447.html
END:VEVENT
BEGIN:VEVENT
UID:20260423T095943Z-7452839945364875330@eventfrog.at
DTSTAMP:20260423T095943Z
DTSTART:20260510T130000Z
DTEND:20260510T140000Z
SUMMARY:Haus Blaues Wunder
DESCRIPTION:Haus Blaues Wunder\n\nhttps://eventfrog.at/de/p/theater-buehne/haus-blaues-wunder-7452839945364875330.html
LOCATION:Werkstatt
GEO:47.664496;9.177376
URL:https://eventfrog.at/de/p/theater-buehne/haus-blaues-wunder-7452839945364875330.html
END:VEVENT
END:VCALENDAR