BEGIN:VCALENDAR
VERSION:2.0
PRODID:EVENTFROG//EVENTGROUP//ICAL
BEGIN:VEVENT
UID:20260424T103255Z-7420238792831826911@eventfrog.at
DTSTAMP:20260424T103255Z
DTSTART:20260429T173000Z
DTEND:20260429T190000Z
SUMMARY:Café Español
DESCRIPTION:Café Español\n\nhttps://eventfrog.at/de/p/diverses/cafe-espanol-7420238792831826911.html
LOCATION:Kantonsbibliothek Thurgau
GEO:47.556209;8.899487
URL:https://eventfrog.at/de/p/diverses/cafe-espanol-7420238792831826911.html
END:VEVENT
END:VCALENDAR