BEGIN:VCALENDAR
VERSION:2.0
PRODID:EVENTFROG//EVENTGROUP//ICAL
BEGIN:VEVENT
UID:20260423T095146Z-7439444385043896336@eventfrog.at
DTSTAMP:20260423T095146Z
DTSTART:20260425T080000Z
SUMMARY:Der Lesehund kommt
DESCRIPTION:Kuscheln und Lesen für Kinder.\n\nhttps://eventfrog.at/de/p/theater-buehne/der-lesehund-kommt-7439444385043896336.html
LOCATION:Stadtbibliothek
GEO:47.415188;9.252704
URL:https://eventfrog.at/de/p/theater-buehne/der-lesehund-kommt-7439444385043896336.html
END:VEVENT
BEGIN:VEVENT
UID:20260423T095146Z-7452113879448955878@eventfrog.at
DTSTAMP:20260423T095146Z
DTSTART:20260513T120000Z
SUMMARY:Der Lesehund kommt
DESCRIPTION:Kuscheln und Lesen für Kinder.\n\nhttps://eventfrog.at/de/p/theater-buehne/der-lesehund-kommt-7452113879448955878.html
LOCATION:Stadtbibliothek
GEO:47.415188;9.252704
URL:https://eventfrog.at/de/p/theater-buehne/der-lesehund-kommt-7452113879448955878.html
END:VEVENT
END:VCALENDAR