BEGIN:VCALENDAR
VERSION:2.0
PRODID:EVENTFROG//EVENTGROUP//ICAL
BEGIN:VEVENT
UID:20260423T110746Z-7439441701897299928@eventfrog.at
DTSTAMP:20260423T110746Z
DTSTART:20260426T120000Z
SUMMARY:Polaris, das Weltraum-U-Boot
DESCRIPTION:Eine Wissensreise mit James und Vladimir.\n\nhttps://eventfrog.at/de/p/wissenschaft-und-technik/polaris-das-weltraum-u-boot-7439441701897299928.html
LOCATION:Planetarium | Bodensee
GEO:47.641511;9.159443
URL:https://eventfrog.at/de/p/wissenschaft-und-technik/polaris-das-weltraum-u-boot-7439441701897299928.html
END:VEVENT
BEGIN:VEVENT
UID:20260423T110746Z-7452110640531957057@eventfrog.at
DTSTAMP:20260423T110746Z
DTSTART:20260506T130000Z
SUMMARY:Polaris, das Weltraum-U-Boot
DESCRIPTION:Eine Wissensreise mit James und Vladimir.\n\nhttps://eventfrog.at/de/p/wissenschaft-und-technik/polaris-das-weltraum-u-boot-7452110640531957057.html
LOCATION:Planetarium | Bodensee
GEO:47.641511;9.159443
URL:https://eventfrog.at/de/p/wissenschaft-und-technik/polaris-das-weltraum-u-boot-7452110640531957057.html
END:VEVENT
BEGIN:VEVENT
UID:20260423T110746Z-7452110640712312131@eventfrog.at
DTSTAMP:20260423T110746Z
DTSTART:20260517T120000Z
SUMMARY:Polaris, das Weltraum-U-Boot
DESCRIPTION:Eine Wissensreise mit James und Vladimir.\n\nhttps://eventfrog.at/de/p/wissenschaft-und-technik/polaris-das-weltraum-u-boot-7452110640712312131.html
LOCATION:Planetarium | Bodensee
GEO:47.641511;9.159443
URL:https://eventfrog.at/de/p/wissenschaft-und-technik/polaris-das-weltraum-u-boot-7452110640712312131.html
END:VEVENT
BEGIN:VEVENT
UID:20260423T110746Z-7452110640884278598@eventfrog.at
DTSTAMP:20260423T110746Z
DTSTART:20260527T130000Z
SUMMARY:Polaris, das Weltraum-U-Boot
DESCRIPTION:Eine Wissensreise mit James und Vladimir.\n\nhttps://eventfrog.at/de/p/wissenschaft-und-technik/polaris-das-weltraum-u-boot-7452110640884278598.html
LOCATION:Planetarium | Bodensee
GEO:47.641511;9.159443
URL:https://eventfrog.at/de/p/wissenschaft-und-technik/polaris-das-weltraum-u-boot-7452110640884278598.html
END:VEVENT
END:VCALENDAR