BEGIN:VCALENDAR
VERSION:2.0
PRODID:EVENTFROG//EVENTGROUP//ICAL
BEGIN:VEVENT
UID:20260424T065101Z-7452713569743810811@eventfrog.at
DTSTAMP:20260424T065101Z
DTSTART:20260902T150000Z
SUMMARY:Zirkus Chnopf - UFE
DESCRIPTION:UFE ist die neuste Produktion vom Zirkus Chnopf mit 5 Profis und 5 Jugendlichen und jungen Artist:innen zwischen 14 und 23 - unter freiem Himmel.\n\nhttps://eventfrog.at/de/p/musicals-shows/zirkus/zirkus-chnopf-ufe-7452713569743810811.html
LOCATION:Koch-Park
GEO:47.381515;8.493936
URL:https://eventfrog.at/de/p/musicals-shows/zirkus/zirkus-chnopf-ufe-7452713569743810811.html
END:VEVENT
BEGIN:VEVENT
UID:20260424T065101Z-7452714749958043814@eventfrog.at
DTSTAMP:20260424T065101Z
DTSTART:20260906T110000Z
SUMMARY:Zirkus Chnopf - UFE
DESCRIPTION:UFE ist die neuste Produktion vom Zirkus Chnopf mit 5 Profis und 5 Jugendlichen und jungen Artist:innen zwischen 14 und 23 - unter freiem Himmel.\n\nhttps://eventfrog.at/de/p/musicals-shows/zirkus/zirkus-chnopf-ufe-7452714749958043814.html
LOCATION:Koch-Park
GEO:47.381515;8.493936
URL:https://eventfrog.at/de/p/musicals-shows/zirkus/zirkus-chnopf-ufe-7452714749958043814.html
END:VEVENT
BEGIN:VEVENT
UID:20260424T065101Z-7452714854215871355@eventfrog.at
DTSTAMP:20260424T065101Z
DTSTART:20260909T153000Z
SUMMARY:Zirkus Chnopf - UFE
DESCRIPTION:UFE ist die neuste Produktion vom Zirkus Chnopf mit 5 Profis und 5 Jugendlichen und jungen Artist:innen zwischen 14 und 23 - unter freiem Himmel.\n\nhttps://eventfrog.at/de/p/musicals-shows/zirkus/zirkus-chnopf-ufe-7452714854215871355.html
LOCATION:Koch-Park
GEO:47.381515;8.493936
URL:https://eventfrog.at/de/p/musicals-shows/zirkus/zirkus-chnopf-ufe-7452714854215871355.html
END:VEVENT
BEGIN:VEVENT
UID:20260424T065101Z-7452714951435648853@eventfrog.at
DTSTAMP:20260424T065101Z
DTSTART:20260910T173000Z
SUMMARY:Zirkus Chnopf - UFE
DESCRIPTION:UFE ist die neuste Produktion vom Zirkus Chnopf mit 5 Profis und 5 Jugendlichen und jungen Artist:innen zwischen 14 und 23 - unter freiem Himmel.\n\nhttps://eventfrog.at/de/p/musicals-shows/zirkus/zirkus-chnopf-ufe-7452714951435648853.html
LOCATION:Koch-Park
GEO:47.381515;8.493936
URL:https://eventfrog.at/de/p/musicals-shows/zirkus/zirkus-chnopf-ufe-7452714951435648853.html
END:VEVENT
BEGIN:VEVENT
UID:20260424T065101Z-7452715111901337384@eventfrog.at
DTSTAMP:20260424T065101Z
DTSTART:20260911T173000Z
SUMMARY:Zirkus Chnopf - UFE
DESCRIPTION:UFE ist die neuste Produktion vom Zirkus Chnopf mit 5 Profis und 5 Jugendlichen und jungen Artist:innen zwischen 14 und 23 - unter freiem Himmel.\n\nhttps://eventfrog.at/de/p/musicals-shows/zirkus/zirkus-chnopf-ufe-7452715111901337384.html
LOCATION:Koch-Park
GEO:47.381515;8.493936
URL:https://eventfrog.at/de/p/musicals-shows/zirkus/zirkus-chnopf-ufe-7452715111901337384.html
END:VEVENT
BEGIN:VEVENT
UID:20260424T065101Z-7452715193866428384@eventfrog.at
DTSTAMP:20260424T065101Z
DTSTART:20260912T173000Z
SUMMARY:Zirkus Chnopf - UFE
DESCRIPTION:UFE ist die neuste Produktion vom Zirkus Chnopf mit 5 Profis und 5 Jugendlichen und jungen Artist:innen zwischen 14 und 23 - unter freiem Himmel.\n\nhttps://eventfrog.at/de/p/musicals-shows/zirkus/zirkus-chnopf-ufe-7452715193866428384.html
LOCATION:Koch-Park
GEO:47.381515;8.493936
URL:https://eventfrog.at/de/p/musicals-shows/zirkus/zirkus-chnopf-ufe-7452715193866428384.html
END:VEVENT
END:VCALENDAR