BEGIN:VCALENDAR
VERSION:2.0
PRODID:EVENTFROG//EVENTGROUP//ICAL
BEGIN:VEVENT
UID:20260424T072700Z-7452712157622369503@eventfrog.at
DTSTAMP:20260424T072700Z
DTSTART:20260507T120000Z
DTEND:20260507T140000Z
SUMMARY:Lesegruppe "Alte Schriften"
DESCRIPTION:Gemeinsam in der Gruppe entziffern wir knifflige Stellen und helfen einander beim Erlernen der Kurrentschrift.\n\nhttps://eventfrog.at/de/p/kurse-seminare/kunst-kultur/lesegruppe-alte-schriften-7452712157622369503.html
LOCATION:Aargauer Kantonsbibliothek
GEO:47.389723;8.044993
URL:https://eventfrog.at/de/p/kurse-seminare/kunst-kultur/lesegruppe-alte-schriften-7452712157622369503.html
END:VEVENT
BEGIN:VEVENT
UID:20260424T072700Z-7452712283321404774@eventfrog.at
DTSTAMP:20260424T072700Z
DTSTART:20260611T120000Z
DTEND:20260611T140000Z
SUMMARY:Lesegruppe "Alte Schriften"
DESCRIPTION:Gemeinsam in der Gruppe entziffern wir knifflige Stellen und helfen einander beim Erlernen der Kurrentschrift.\n\nhttps://eventfrog.at/de/p/kurse-seminare/kunst-kultur/lesegruppe-alte-schriften-7452712283321404774.html
LOCATION:Aargauer Kantonsbibliothek
GEO:47.389723;8.044993
URL:https://eventfrog.at/de/p/kurse-seminare/kunst-kultur/lesegruppe-alte-schriften-7452712283321404774.html
END:VEVENT
BEGIN:VEVENT
UID:20260424T072700Z-7452712283661144052@eventfrog.at
DTSTAMP:20260424T072700Z
DTSTART:20260813T120000Z
DTEND:20260813T140000Z
SUMMARY:Lesegruppe "Alte Schriften"
DESCRIPTION:Gemeinsam in der Gruppe entziffern wir knifflige Stellen und helfen einander beim Erlernen der Kurrentschrift.\n\nhttps://eventfrog.at/de/p/kurse-seminare/kunst-kultur/lesegruppe-alte-schriften-7452712283661144052.html
LOCATION:Aargauer Kantonsbibliothek
GEO:47.389723;8.044993
URL:https://eventfrog.at/de/p/kurse-seminare/kunst-kultur/lesegruppe-alte-schriften-7452712283661144052.html
END:VEVENT
BEGIN:VEVENT
UID:20260424T072700Z-7452712283807944738@eventfrog.at
DTSTAMP:20260424T072700Z
DTSTART:20260910T120000Z
DTEND:20260910T140000Z
SUMMARY:Lesegruppe "Alte Schriften"
DESCRIPTION:Gemeinsam in der Gruppe entziffern wir knifflige Stellen und helfen einander beim Erlernen der Kurrentschrift.\n\nhttps://eventfrog.at/de/p/kurse-seminare/kunst-kultur/lesegruppe-alte-schriften-7452712283807944738.html
LOCATION:Aargauer Kantonsbibliothek
GEO:47.389723;8.044993
URL:https://eventfrog.at/de/p/kurse-seminare/kunst-kultur/lesegruppe-alte-schriften-7452712283807944738.html
END:VEVENT
BEGIN:VEVENT
UID:20260424T072700Z-7452712283942162486@eventfrog.at
DTSTAMP:20260424T072700Z
DTSTART:20261015T120000Z
DTEND:20261015T140000Z
SUMMARY:Lesegruppe "Alte Schriften"
DESCRIPTION:Gemeinsam in der Gruppe entziffern wir knifflige Stellen und helfen einander beim Erlernen der Kurrentschrift.\n\nhttps://eventfrog.at/de/p/kurse-seminare/kunst-kultur/lesegruppe-alte-schriften-7452712283942162486.html
LOCATION:Aargauer Kantonsbibliothek
GEO:47.389723;8.044993
URL:https://eventfrog.at/de/p/kurse-seminare/kunst-kultur/lesegruppe-alte-schriften-7452712283942162486.html
END:VEVENT
BEGIN:VEVENT
UID:20260424T072700Z-7452712284080574520@eventfrog.at
DTSTAMP:20260424T072700Z
DTSTART:20261112T130000Z
DTEND:20261112T150000Z
SUMMARY:Lesegruppe "Alte Schriften"
DESCRIPTION:Gemeinsam in der Gruppe entziffern wir knifflige Stellen und helfen einander beim Erlernen der Kurrentschrift.\n\nhttps://eventfrog.at/de/p/kurse-seminare/kunst-kultur/lesegruppe-alte-schriften-7452712284080574520.html
LOCATION:Aargauer Kantonsbibliothek
GEO:47.389723;8.044993
URL:https://eventfrog.at/de/p/kurse-seminare/kunst-kultur/lesegruppe-alte-schriften-7452712284080574520.html
END:VEVENT
BEGIN:VEVENT
UID:20260424T072700Z-7452712284218986556@eventfrog.at
DTSTAMP:20260424T072700Z
DTSTART:20261210T130000Z
DTEND:20261210T150000Z
SUMMARY:Lesegruppe "Alte Schriften"
DESCRIPTION:Gemeinsam in der Gruppe entziffern wir knifflige Stellen und helfen einander beim Erlernen der Kurrentschrift.\n\nhttps://eventfrog.at/de/p/kurse-seminare/kunst-kultur/lesegruppe-alte-schriften-7452712284218986556.html
LOCATION:Aargauer Kantonsbibliothek
GEO:47.389723;8.044993
URL:https://eventfrog.at/de/p/kurse-seminare/kunst-kultur/lesegruppe-alte-schriften-7452712284218986556.html
END:VEVENT
END:VCALENDAR