BEGIN:VCALENDAR
VERSION:2.0
PRODID:EVENTFROG//EVENTGROUP//ICAL
BEGIN:VEVENT
UID:20260425T184018Z-7452703284014361558@eventfrog.at
DTSTAMP:20260425T184018Z
DTSTART:20260715T143000Z
SUMMARY:Zirkus Chnopf - UFE
DESCRIPTION:UFE ist die neuste Produktion vom Zirkus Chnopf mit 5 Profis und 5 Jugendlichen und jungen Artist:innen zwischen 14 und 23 - unter freiem Himmel.\n\nhttps://eventfrog.at/de/p/musicals-shows/zirkus/zirkus-chnopf-ufe-7452703284014361558.html
LOCATION:Neptunwiese
GEO:47.134696;7.231922
URL:https://eventfrog.at/de/p/musicals-shows/zirkus/zirkus-chnopf-ufe-7452703284014361558.html
END:VEVENT
BEGIN:VEVENT
UID:20260425T184018Z-7452703375290807193@eventfrog.at
DTSTAMP:20260425T184018Z
DTSTART:20260717T143000Z
SUMMARY:Zirkus Chnopf - UFE
DESCRIPTION:UFE ist die neuste Produktion vom Zirkus Chnopf mit 5 Profis und 5 Jugendlichen und jungen Artist:innen zwischen 14 und 23 - unter freiem Himmel.\n\nhttps://eventfrog.at/de/p/musicals-shows/zirkus/zirkus-chnopf-ufe-7452703375290807193.html
LOCATION:Neptunwiese
GEO:47.134696;7.231922
URL:https://eventfrog.at/de/p/musicals-shows/zirkus/zirkus-chnopf-ufe-7452703375290807193.html
END:VEVENT
BEGIN:VEVENT
UID:20260425T184018Z-7452704458364955061@eventfrog.at
DTSTAMP:20260425T184018Z
DTSTART:20260718T143000Z
SUMMARY:Zirkus Chnopf - UFE
DESCRIPTION:UFE ist die neuste Produktion vom Zirkus Chnopf mit 5 Profis und 5 Jugendlichen und jungen Artist:innen zwischen 14 und 23 - unter freiem Himmel.\n\nhttps://eventfrog.at/de/p/musicals-shows/zirkus/zirkus-chnopf-ufe-7452704458364955061.html
LOCATION:Neptunwiese
GEO:47.134696;7.231922
URL:https://eventfrog.at/de/p/musicals-shows/zirkus/zirkus-chnopf-ufe-7452704458364955061.html
END:VEVENT
BEGIN:VEVENT
UID:20260425T184018Z-7452704524282642710@eventfrog.at
DTSTAMP:20260425T184018Z
DTSTART:20260718T173000Z
SUMMARY:Zirkus Chnopf - UFE
DESCRIPTION:UFE ist die neuste Produktion vom Zirkus Chnopf mit 5 Profis und 5 Jugendlichen und jungen Artist:innen zwischen 14 und 23 - unter freiem Himmel.\n\nhttps://eventfrog.at/de/p/musicals-shows/zirkus/zirkus-chnopf-ufe-7452704524282642710.html
LOCATION:Neptunwiese
GEO:47.134696;7.231922
URL:https://eventfrog.at/de/p/musicals-shows/zirkus/zirkus-chnopf-ufe-7452704524282642710.html
END:VEVENT
BEGIN:VEVENT
UID:20260425T184018Z-7452704616632833098@eventfrog.at
DTSTAMP:20260425T184018Z
DTSTART:20260719T143000Z
SUMMARY:Zirkus Chnopf - UFE
DESCRIPTION:UFE ist die neuste Produktion vom Zirkus Chnopf mit 5 Profis und 5 Jugendlichen und jungen Artist:innen zwischen 14 und 23 - unter freiem Himmel.\n\nhttps://eventfrog.at/de/p/musicals-shows/zirkus/zirkus-chnopf-ufe-7452704616632833098.html
LOCATION:Neptunwiese
GEO:47.134696;7.231922
URL:https://eventfrog.at/de/p/musicals-shows/zirkus/zirkus-chnopf-ufe-7452704616632833098.html
END:VEVENT
END:VCALENDAR