BEGIN:VCALENDAR
VERSION:2.0
PRODID:EVENTFROG//EVENTGROUP//ICAL
BEGIN:VEVENT
UID:20260424T092417Z-7452698715557467215@eventfrog.at
DTSTAMP:20260424T092417Z
DTSTART:20260701T143000Z
SUMMARY:Zirkus Chnopf - UFE
DESCRIPTION:UFE ist die neuste Produktion vom Zirkus Chnopf mit 5 Profis und 5 Jugendlichen und jungen Artist:innen zwischen 14 und 23 - unter freiem Himmel.\n\nhttps://eventfrog.at/de/p/musicals-shows/zirkus/zirkus-chnopf-ufe-7452698715557467215.html
LOCATION:Kreuzackerplatz
GEO:47.205666;7.539649
URL:https://eventfrog.at/de/p/musicals-shows/zirkus/zirkus-chnopf-ufe-7452698715557467215.html
END:VEVENT
BEGIN:VEVENT
UID:20260424T092417Z-7452699448747026221@eventfrog.at
DTSTAMP:20260424T092417Z
DTSTART:20260703T173000Z
SUMMARY:Zirkus Chnopf - UFE
DESCRIPTION:UFE ist die neuste Produktion vom Zirkus Chnopf mit 5 Profis und 5 Jugendlichen und jungen Artist:innen zwischen 14 und 23 - unter freiem Himmel.\n\nhttps://eventfrog.at/de/p/musicals-shows/zirkus/zirkus-chnopf-ufe-7452699448747026221.html
LOCATION:Kreuzackerplatz
GEO:47.205666;7.539649
URL:https://eventfrog.at/de/p/musicals-shows/zirkus/zirkus-chnopf-ufe-7452699448747026221.html
END:VEVENT
BEGIN:VEVENT
UID:20260424T092417Z-7452699791333539462@eventfrog.at
DTSTAMP:20260424T092417Z
DTSTART:20260704T143000Z
SUMMARY:Zirkus Chnopf - UFE
DESCRIPTION:UFE ist die neuste Produktion vom Zirkus Chnopf mit 5 Profis und 5 Jugendlichen und jungen Artist:innen zwischen 14 und 23 - unter freiem Himmel.\n\nhttps://eventfrog.at/de/p/musicals-shows/zirkus/zirkus-chnopf-ufe-7452699791333539462.html
LOCATION:Kreuzackerplatz
GEO:47.205666;7.539649
URL:https://eventfrog.at/de/p/musicals-shows/zirkus/zirkus-chnopf-ufe-7452699791333539462.html
END:VEVENT
BEGIN:VEVENT
UID:20260424T092417Z-7452699931758843514@eventfrog.at
DTSTAMP:20260424T092417Z
DTSTART:20260704T173000Z
SUMMARY:Zirkus Chnopf - UFE
DESCRIPTION:UFE ist die neuste Produktion vom Zirkus Chnopf mit 5 Profis und 5 Jugendlichen und jungen Artist:innen zwischen 14 und 23 - unter freiem Himmel.\n\nhttps://eventfrog.at/de/p/musicals-shows/zirkus/zirkus-chnopf-ufe-7452699931758843514.html
LOCATION:Kreuzackerplatz
GEO:47.205666;7.539649
URL:https://eventfrog.at/de/p/musicals-shows/zirkus/zirkus-chnopf-ufe-7452699931758843514.html
END:VEVENT
BEGIN:VEVENT
UID:20260424T092417Z-7452700017066795730@eventfrog.at
DTSTAMP:20260424T092417Z
DTSTART:20260705T143000Z
SUMMARY:Zirkus Chnopf - UFE
DESCRIPTION:UFE ist die neuste Produktion vom Zirkus Chnopf mit 5 Profis und 5 Jugendlichen und jungen Artist:innen zwischen 14 und 23 - unter freiem Himmel.\n\nhttps://eventfrog.at/de/p/musicals-shows/zirkus/zirkus-chnopf-ufe-7452700017066795730.html
LOCATION:Kreuzackerplatz
GEO:47.205666;7.539649
URL:https://eventfrog.at/de/p/musicals-shows/zirkus/zirkus-chnopf-ufe-7452700017066795730.html
END:VEVENT
END:VCALENDAR