BEGIN:VCALENDAR
VERSION:2.0
PRODID:EVENTFROG//EVENTGROUP//ICAL
BEGIN:VEVENT
UID:20260424T090352Z-7452697331680456964@eventfrog.at
DTSTAMP:20260424T090352Z
DTSTART:20260626T173000Z
SUMMARY:Zirkus Chnopf - UFE
DESCRIPTION:UFE ist die neuste Produktion vom Zirkus Chnopf mit 5 Profis und 5 Jugendlichen und jungen Artist:innen zwischen 14 und 23 - unter freiem Himmel.\n\nhttps://eventfrog.at/de/p/musicals-shows/zirkus/zirkus-chnopf-ufe-7452697331680456964.html
LOCATION:Schlossgutplatz
GEO:46.876232;7.560564
URL:https://eventfrog.at/de/p/musicals-shows/zirkus/zirkus-chnopf-ufe-7452697331680456964.html
END:VEVENT
BEGIN:VEVENT
UID:20260424T090352Z-7452698507348076193@eventfrog.at
DTSTAMP:20260424T090352Z
DTSTART:20260627T173000Z
SUMMARY:Zirkus Chnopf - UFE
DESCRIPTION:UFE ist die neuste Produktion vom Zirkus Chnopf mit 5 Profis und 5 Jugendlichen und jungen Artist:innen zwischen 14 und 23 - unter freiem Himmel.\n\nhttps://eventfrog.at/de/p/musicals-shows/zirkus/zirkus-chnopf-ufe-7452698507348076193.html
LOCATION:Schlossgutplatz
GEO:46.876232;7.560564
URL:https://eventfrog.at/de/p/musicals-shows/zirkus/zirkus-chnopf-ufe-7452698507348076193.html
END:VEVENT
BEGIN:VEVENT
UID:20260424T090352Z-7452698590412078420@eventfrog.at
DTSTAMP:20260424T090352Z
DTSTART:20260628T160000Z
SUMMARY:Zirkus Chnopf - UFE
DESCRIPTION:UFE ist die neuste Produktion vom Zirkus Chnopf mit 5 Profis und 5 Jugendlichen und jungen Artist:innen zwischen 14 und 23 - unter freiem Himmel.\n\nhttps://eventfrog.at/de/p/musicals-shows/zirkus/zirkus-chnopf-ufe-7452698590412078420.html
LOCATION:Schlossgutplatz
GEO:46.876232;7.560564
URL:https://eventfrog.at/de/p/musicals-shows/zirkus/zirkus-chnopf-ufe-7452698590412078420.html
END:VEVENT
END:VCALENDAR