BEGIN:VCALENDAR
VERSION:2.0
PRODID:EVENTFROG//EVENTGROUP//ICAL
BEGIN:VEVENT
UID:20260423T051256Z-7452698089402421110@eventfrog.at
DTSTAMP:20260423T051256Z
DTSTART:20260426T150000Z
SUMMARY:Drum & Bass Sundays @ The Spot Bar
DESCRIPTION:Jeden Sonntag spielen lokale DJs ab 17 Uhr in der The Spot Bar energiegeladene elektronische Musik mit fetten Basslines.\n\nhttps://eventfrog.at/de/p/partys/dubstep-d-n-b/drum-bass-sundays-the-spot-bar-7452698089402421110.html
LOCATION:The Spot Bar
GEO:47.379538;8.526002
URL:https://eventfrog.at/de/p/partys/dubstep-d-n-b/drum-bass-sundays-the-spot-bar-7452698089402421110.html
END:VEVENT
BEGIN:VEVENT
UID:20260423T051256Z-7452698127247629004@eventfrog.at
DTSTAMP:20260423T051256Z
DTSTART:20260503T150000Z
SUMMARY:Drum & Bass Sundays @ The Spot Bar
DESCRIPTION:Jeden Sonntag spielen lokale DJs ab 17 Uhr in der The Spot Bar energiegeladene elektronische Musik mit fetten Basslines.\n\nhttps://eventfrog.at/de/p/partys/dubstep-d-n-b/drum-bass-sundays-the-spot-bar-7452698127247629004.html
LOCATION:The Spot Bar
GEO:47.379538;8.526002
URL:https://eventfrog.at/de/p/partys/dubstep-d-n-b/drum-bass-sundays-the-spot-bar-7452698127247629004.html
END:VEVENT
BEGIN:VEVENT
UID:20260423T051256Z-7452698127520259390@eventfrog.at
DTSTAMP:20260423T051256Z
DTSTART:20260510T150000Z
SUMMARY:Drum & Bass Sundays @ The Spot Bar
DESCRIPTION:Jeden Sonntag spielen lokale DJs ab 17 Uhr in der The Spot Bar energiegeladene elektronische Musik mit fetten Basslines.\n\nhttps://eventfrog.at/de/p/partys/dubstep-d-n-b/drum-bass-sundays-the-spot-bar-7452698127520259390.html
LOCATION:The Spot Bar
GEO:47.379538;8.526002
URL:https://eventfrog.at/de/p/partys/dubstep-d-n-b/drum-bass-sundays-the-spot-bar-7452698127520259390.html
END:VEVENT
BEGIN:VEVENT
UID:20260423T051256Z-7452698127692225939@eventfrog.at
DTSTAMP:20260423T051256Z
DTSTART:20260517T150000Z
SUMMARY:Drum & Bass Sundays @ The Spot Bar
DESCRIPTION:Jeden Sonntag spielen lokale DJs ab 17 Uhr in der The Spot Bar energiegeladene elektronische Musik mit fetten Basslines.\n\nhttps://eventfrog.at/de/p/partys/dubstep-d-n-b/drum-bass-sundays-the-spot-bar-7452698127692225939.html
LOCATION:The Spot Bar
GEO:47.379538;8.526002
URL:https://eventfrog.at/de/p/partys/dubstep-d-n-b/drum-bass-sundays-the-spot-bar-7452698127692225939.html
END:VEVENT
BEGIN:VEVENT
UID:20260423T051256Z-7452698127880969635@eventfrog.at
DTSTAMP:20260423T051256Z
DTSTART:20260524T150000Z
SUMMARY:Drum & Bass Sundays @ The Spot Bar
DESCRIPTION:Jeden Sonntag spielen lokale DJs ab 17 Uhr in der The Spot Bar energiegeladene elektronische Musik mit fetten Basslines.\n\nhttps://eventfrog.at/de/p/partys/dubstep-d-n-b/drum-bass-sundays-the-spot-bar-7452698127880969635.html
LOCATION:The Spot Bar
GEO:47.379538;8.526002
URL:https://eventfrog.at/de/p/partys/dubstep-d-n-b/drum-bass-sundays-the-spot-bar-7452698127880969635.html
END:VEVENT
BEGIN:VEVENT
UID:20260423T051256Z-7452698128027770278@eventfrog.at
DTSTAMP:20260423T051256Z
DTSTART:20260531T150000Z
SUMMARY:Drum & Bass Sundays @ The Spot Bar
DESCRIPTION:Jeden Sonntag spielen lokale DJs ab 17 Uhr in der The Spot Bar energiegeladene elektronische Musik mit fetten Basslines.\n\nhttps://eventfrog.at/de/p/partys/dubstep-d-n-b/drum-bass-sundays-the-spot-bar-7452698128027770278.html
LOCATION:The Spot Bar
GEO:47.379538;8.526002
URL:https://eventfrog.at/de/p/partys/dubstep-d-n-b/drum-bass-sundays-the-spot-bar-7452698128027770278.html
END:VEVENT
BEGIN:VEVENT
UID:20260423T051256Z-7452698128203931127@eventfrog.at
DTSTAMP:20260423T051256Z
DTSTART:20260607T150000Z
SUMMARY:Drum & Bass Sundays @ The Spot Bar
DESCRIPTION:Jeden Sonntag spielen lokale DJs ab 17 Uhr in der The Spot Bar energiegeladene elektronische Musik mit fetten Basslines.\n\nhttps://eventfrog.at/de/p/partys/dubstep-d-n-b/drum-bass-sundays-the-spot-bar-7452698128203931127.html
LOCATION:The Spot Bar
GEO:47.379538;8.526002
URL:https://eventfrog.at/de/p/partys/dubstep-d-n-b/drum-bass-sundays-the-spot-bar-7452698128203931127.html
END:VEVENT
BEGIN:VEVENT
UID:20260423T051256Z-7452698128329760252@eventfrog.at
DTSTAMP:20260423T051256Z
DTSTART:20260614T150000Z
SUMMARY:Drum & Bass Sundays @ The Spot Bar
DESCRIPTION:Jeden Sonntag spielen lokale DJs ab 17 Uhr in der The Spot Bar energiegeladene elektronische Musik mit fetten Basslines.\n\nhttps://eventfrog.at/de/p/partys/dubstep-d-n-b/drum-bass-sundays-the-spot-bar-7452698128329760252.html
LOCATION:The Spot Bar
GEO:47.379538;8.526002
URL:https://eventfrog.at/de/p/partys/dubstep-d-n-b/drum-bass-sundays-the-spot-bar-7452698128329760252.html
END:VEVENT
BEGIN:VEVENT
UID:20260423T051256Z-7452698128463977982@eventfrog.at
DTSTAMP:20260423T051256Z
DTSTART:20260621T150000Z
SUMMARY:Drum & Bass Sundays @ The Spot Bar
DESCRIPTION:Jeden Sonntag spielen lokale DJs ab 17 Uhr in der The Spot Bar energiegeladene elektronische Musik mit fetten Basslines.\n\nhttps://eventfrog.at/de/p/partys/dubstep-d-n-b/drum-bass-sundays-the-spot-bar-7452698128463977982.html
LOCATION:The Spot Bar
GEO:47.379538;8.526002
URL:https://eventfrog.at/de/p/partys/dubstep-d-n-b/drum-bass-sundays-the-spot-bar-7452698128463977982.html
END:VEVENT
BEGIN:VEVENT
UID:20260423T051256Z-7452698128602390042@eventfrog.at
DTSTAMP:20260423T051256Z
DTSTART:20260628T150000Z
SUMMARY:Drum & Bass Sundays @ The Spot Bar
DESCRIPTION:Jeden Sonntag spielen lokale DJs ab 17 Uhr in der The Spot Bar energiegeladene elektronische Musik mit fetten Basslines.\n\nhttps://eventfrog.at/de/p/partys/dubstep-d-n-b/drum-bass-sundays-the-spot-bar-7452698128602390042.html
LOCATION:The Spot Bar
GEO:47.379538;8.526002
URL:https://eventfrog.at/de/p/partys/dubstep-d-n-b/drum-bass-sundays-the-spot-bar-7452698128602390042.html
END:VEVENT
END:VCALENDAR