BEGIN:VCALENDAR
VERSION:2.0
PRODID:EVENTFROG//EVENTGROUP//ICAL
BEGIN:VEVENT
UID:20260422T165636Z-7452695504649998475@eventfrog.at
DTSTAMP:20260422T165636Z
DTSTART:20260423T160000Z
SUMMARY:Thursday — Apero & Vinyl Open Decks
DESCRIPTION:Jeden Donnerstag ab 18 Uhr entspanntes Vinyl-Open-Decks-Event, ab 21 Uhr DJ Gene Douglas und wechselnde lokale DJs.\n\nhttps://eventfrog.at/de/p/partys/sonstige-partys/thursday-apero-vinyl-open-decks-7452695504649998475.html
LOCATION:The Spot Bar
GEO:47.379538;8.526002
URL:https://eventfrog.at/de/p/partys/sonstige-partys/thursday-apero-vinyl-open-decks-7452695504649998475.html
END:VEVENT
BEGIN:VEVENT
UID:20260422T165636Z-7452695585566516249@eventfrog.at
DTSTAMP:20260422T165636Z
DTSTART:20260430T160000Z
SUMMARY:Thursday — Apero & Vinyl Open Decks
DESCRIPTION:Geniesse donnerstags ab 17 Uhr Apero und Open Vinyl Decks, ab 21 Uhr spielt Gene Douglas mit lokalen DJs.\n\nhttps://eventfrog.at/de/p/partys/sonstige-partys/thursday-apero-vinyl-open-decks-7452695585566516249.html
LOCATION:The Spot Bar
GEO:47.379538;8.526002
URL:https://eventfrog.at/de/p/partys/sonstige-partys/thursday-apero-vinyl-open-decks-7452695585566516249.html
END:VEVENT
BEGIN:VEVENT
UID:20260422T165636Z-7452695585818175115@eventfrog.at
DTSTAMP:20260422T165636Z
DTSTART:20260507T160000Z
SUMMARY:Thursday — Apero & Vinyl Open Decks
DESCRIPTION:Geniesse donnerstags ab 17 Uhr Apero und Open Vinyl Decks, ab 21 Uhr spielt Gene Douglas mit lokalen DJs.\n\nhttps://eventfrog.at/de/p/partys/sonstige-partys/thursday-apero-vinyl-open-decks-7452695585818175115.html
LOCATION:The Spot Bar
GEO:47.379538;8.526002
URL:https://eventfrog.at/de/p/partys/sonstige-partys/thursday-apero-vinyl-open-decks-7452695585818175115.html
END:VEVENT
BEGIN:VEVENT
UID:20260422T165636Z-7452695585939809995@eventfrog.at
DTSTAMP:20260422T165636Z
DTSTART:20260514T160000Z
SUMMARY:Thursday — Apero & Vinyl Open Decks
DESCRIPTION:Geniesse donnerstags ab 17 Uhr Apero und Open Vinyl Decks, ab 21 Uhr spielt Gene Douglas mit lokalen DJs.\n\nhttps://eventfrog.at/de/p/partys/sonstige-partys/thursday-apero-vinyl-open-decks-7452695585939809995.html
LOCATION:The Spot Bar
GEO:47.379538;8.526002
URL:https://eventfrog.at/de/p/partys/sonstige-partys/thursday-apero-vinyl-open-decks-7452695585939809995.html
END:VEVENT
BEGIN:VEVENT
UID:20260422T165636Z-7452695586078222045@eventfrog.at
DTSTAMP:20260422T165636Z
DTSTART:20260521T160000Z
SUMMARY:Thursday — Apero & Vinyl Open Decks
DESCRIPTION:Geniesse donnerstags ab 17 Uhr Apero und Open Vinyl Decks, ab 21 Uhr spielt Gene Douglas mit lokalen DJs.\n\nhttps://eventfrog.at/de/p/partys/sonstige-partys/thursday-apero-vinyl-open-decks-7452695586078222045.html
LOCATION:The Spot Bar
GEO:47.379538;8.526002
URL:https://eventfrog.at/de/p/partys/sonstige-partys/thursday-apero-vinyl-open-decks-7452695586078222045.html
END:VEVENT
BEGIN:VEVENT
UID:20260422T165636Z-7452695586225022698@eventfrog.at
DTSTAMP:20260422T165636Z
DTSTART:20260528T160000Z
SUMMARY:Thursday — Apero & Vinyl Open Decks
DESCRIPTION:Geniesse donnerstags ab 17 Uhr Apero und Open Vinyl Decks, ab 21 Uhr spielt Gene Douglas mit lokalen DJs.\n\nhttps://eventfrog.at/de/p/partys/sonstige-partys/thursday-apero-vinyl-open-decks-7452695586225022698.html
LOCATION:The Spot Bar
GEO:47.379538;8.526002
URL:https://eventfrog.at/de/p/partys/sonstige-partys/thursday-apero-vinyl-open-decks-7452695586225022698.html
END:VEVENT
BEGIN:VEVENT
UID:20260422T165636Z-7452695586380211948@eventfrog.at
DTSTAMP:20260422T165636Z
DTSTART:20260604T160000Z
SUMMARY:Thursday — Apero & Vinyl Open Decks
DESCRIPTION:Geniesse donnerstags ab 17 Uhr Apero und Open Vinyl Decks, ab 21 Uhr spielt Gene Douglas mit lokalen DJs.\n\nhttps://eventfrog.at/de/p/partys/sonstige-partys/thursday-apero-vinyl-open-decks-7452695586380211948.html
LOCATION:The Spot Bar
GEO:47.379538;8.526002
URL:https://eventfrog.at/de/p/partys/sonstige-partys/thursday-apero-vinyl-open-decks-7452695586380211948.html
END:VEVENT
BEGIN:VEVENT
UID:20260422T165636Z-7452695586522818362@eventfrog.at
DTSTAMP:20260422T165636Z
DTSTART:20260611T160000Z
SUMMARY:Thursday — Apero & Vinyl Open Decks
DESCRIPTION:Geniesse donnerstags ab 17 Uhr Apero und Open Vinyl Decks, ab 21 Uhr spielt Gene Douglas mit lokalen DJs.\n\nhttps://eventfrog.at/de/p/partys/sonstige-partys/thursday-apero-vinyl-open-decks-7452695586522818362.html
LOCATION:The Spot Bar
GEO:47.379538;8.526002
URL:https://eventfrog.at/de/p/partys/sonstige-partys/thursday-apero-vinyl-open-decks-7452695586522818362.html
END:VEVENT
BEGIN:VEVENT
UID:20260422T165636Z-7452695586678007617@eventfrog.at
DTSTAMP:20260422T165636Z
DTSTART:20260618T160000Z
SUMMARY:Thursday — Apero & Vinyl Open Decks
DESCRIPTION:Geniesse donnerstags ab 17 Uhr Apero und Open Vinyl Decks, ab 21 Uhr spielt Gene Douglas mit lokalen DJs.\n\nhttps://eventfrog.at/de/p/partys/sonstige-partys/thursday-apero-vinyl-open-decks-7452695586678007617.html
LOCATION:The Spot Bar
GEO:47.379538;8.526002
URL:https://eventfrog.at/de/p/partys/sonstige-partys/thursday-apero-vinyl-open-decks-7452695586678007617.html
END:VEVENT
BEGIN:VEVENT
UID:20260422T165636Z-7452695586820613955@eventfrog.at
DTSTAMP:20260422T165636Z
DTSTART:20260625T160000Z
SUMMARY:Thursday — Apero & Vinyl Open Decks
DESCRIPTION:Geniesse donnerstags ab 17 Uhr Apero und Open Vinyl Decks, ab 21 Uhr spielt Gene Douglas mit lokalen DJs.\n\nhttps://eventfrog.at/de/p/partys/sonstige-partys/thursday-apero-vinyl-open-decks-7452695586820613955.html
LOCATION:The Spot Bar
GEO:47.379538;8.526002
URL:https://eventfrog.at/de/p/partys/sonstige-partys/thursday-apero-vinyl-open-decks-7452695586820613955.html
END:VEVENT
END:VCALENDAR