BEGIN:VCALENDAR
VERSION:2.0
PRODID:EVENTFROG//EVENTGROUP//ICAL
BEGIN:VEVENT
UID:20260423T050639Z-7445949576677186725@eventfrog.at
DTSTAMP:20260423T050639Z
DTSTART:20260426T150000Z
DTEND:20260426T170000Z
SUMMARY:Le Chant des forêts
DESCRIPTION:Le Chant des forêts\n\nhttps://eventfrog.at/de/p/freizeit-ausfluege/le-chant-des-forets-7445949576677186725.html
LOCATION:Kino Roxy
GEO:47.565019;9.374795
URL:https://eventfrog.at/de/p/freizeit-ausfluege/le-chant-des-forets-7445949576677186725.html
END:VEVENT
BEGIN:VEVENT
UID:20260423T050639Z-7452472445959672138@eventfrog.at
DTSTAMP:20260423T050639Z
DTSTART:20260502T150000Z
DTEND:20260502T170000Z
SUMMARY:Le Chant des forêts
DESCRIPTION:Le Chant des forêts\n\nhttps://eventfrog.at/de/p/freizeit-ausfluege/le-chant-des-forets-7452472445959672138.html
LOCATION:Kino Roxy
GEO:47.565019;9.374795
URL:https://eventfrog.at/de/p/freizeit-ausfluege/le-chant-des-forets-7452472445959672138.html
END:VEVENT
END:VCALENDAR