BEGIN:VCALENDAR
VERSION:2.0
PRODID:EVENTFROG//EVENTGROUP//ICAL
BEGIN:VEVENT
UID:20260423T032744Z-7452442095539731900@eventfrog.at
DTSTAMP:20260423T032744Z
DTSTART:20260710T180000Z
SUMMARY:Saviras SHOWPALAST - on Tour
DESCRIPTION:Savira Brown bringt mit «Savira’s SHOWPALAST - on Tour» eine wechselnde Travestie- und Varieté-Show voller Highlights in Ihre Nähe.\n\nhttps://eventfrog.at/de/p/musicals-shows/travestie/saviras-showpalast-on-tour-7452442095539731900.html
LOCATION:Das Jahrtausendfeld
GEO:51.330620;12.328124
URL:https://eventfrog.at/de/p/musicals-shows/travestie/saviras-showpalast-on-tour-7452442095539731900.html
END:VEVENT
BEGIN:VEVENT
UID:20260423T032744Z-7452442366806366960@eventfrog.at
DTSTAMP:20260423T032744Z
DTSTART:20260711T180000Z
SUMMARY:Saviras SHOWPALAST - on Tour
DESCRIPTION:Savira Brown bringt mit «Savira’s SHOWPALAST - on Tour» eine wechselnde Travestie- und Varieté-Show voller Highlights in Ihre Nähe.\n\nhttps://eventfrog.at/de/p/musicals-shows/travestie/saviras-showpalast-on-tour-7452442366806366960.html
LOCATION:Das Jahrtausendfeld
GEO:51.330620;12.328124
URL:https://eventfrog.at/de/p/musicals-shows/travestie/saviras-showpalast-on-tour-7452442366806366960.html
END:VEVENT
END:VCALENDAR