BEGIN:VCALENDAR
VERSION:2.0
PRODID:EVENTFROG//EVENTGROUP//ICAL
BEGIN:VEVENT
UID:20260423T020550Z-7452390077060091889@eventfrog.at
DTSTAMP:20260423T020550Z
DTSTART:20260528T170000Z
DTEND:20260528T200000Z
SUMMARY:Ear:Spa ZiMMT Listening Sessions
DESCRIPTION:Ear:Spa\nZiMMT Listening Sessions\n\nhttps://eventfrog.at/de/p/konzerte/indie-alternative/ear-spa-zimmt-listening-sessions-7452390077060091889.html
LOCATION:ZiMMT
GEO:51.348029;12.420404
URL:https://eventfrog.at/de/p/konzerte/indie-alternative/ear-spa-zimmt-listening-sessions-7452390077060091889.html
END:VEVENT
BEGIN:VEVENT
UID:20260423T020550Z-7452390136346583940@eventfrog.at
DTSTAMP:20260423T020550Z
DTSTART:20260618T170000Z
DTEND:20260618T200000Z
SUMMARY:Ear:Spa ZiMMT Listening Sessions
DESCRIPTION:Ear:Spa\nZiMMT Listening Sessions\n\nhttps://eventfrog.at/de/p/konzerte/indie-alternative/ear-spa-zimmt-listening-sessions-7452390136346583940.html
LOCATION:ZiMMT
GEO:51.348029;12.420404
URL:https://eventfrog.at/de/p/konzerte/indie-alternative/ear-spa-zimmt-listening-sessions-7452390136346583940.html
END:VEVENT
BEGIN:VEVENT
UID:20260423T020550Z-7452390136594048500@eventfrog.at
DTSTAMP:20260423T020550Z
DTSTART:20260709T170000Z
DTEND:20260709T200000Z
SUMMARY:Ear:Spa ZiMMT Listening Sessions
DESCRIPTION:Ear:Spa\nZiMMT Listening Sessions\n\nhttps://eventfrog.at/de/p/konzerte/indie-alternative/ear-spa-zimmt-listening-sessions-7452390136594048500.html
LOCATION:ZiMMT
GEO:51.348029;12.420404
URL:https://eventfrog.at/de/p/konzerte/indie-alternative/ear-spa-zimmt-listening-sessions-7452390136594048500.html
END:VEVENT
END:VCALENDAR