BEGIN:VCALENDAR
VERSION:2.0
PRODID:EVENTFROG//EVENTGROUP//ICAL
BEGIN:VEVENT
UID:20260424T072655Z-7452354767735516265@eventfrog.at
DTSTAMP:20260424T072655Z
DTSTART:20260626T173000Z
SUMMARY:«Es ist genug: Norddeutsche Kantatenfür Tenor und Streicher»
DESCRIPTION:Raphael Höhn singt norddeutsche Kantaten, begleitet von Violinen und Cembalo, zum Saisonabschluss mit abwechslungsreicher Musik.\n\nhttps://eventfrog.at/de/p/klassik-opern/klassik/es-ist-genug-norddeutsche-kantatenfuer-tenor-und-streicher-7452354767735516265.html
LOCATION:Reformierte Kirche Veltheim
GEO:47.509815;8.716547
URL:https://eventfrog.at/de/p/klassik-opern/klassik/es-ist-genug-norddeutsche-kantatenfuer-tenor-und-streicher-7452354767735516265.html
END:VEVENT
BEGIN:VEVENT
UID:20260424T072655Z-7452355563030058164@eventfrog.at
DTSTAMP:20260424T072655Z
DTSTART:20260627T163000Z
SUMMARY:«Es ist genug: Norddeutsche Kantatenfür Tenor und Streicher»
DESCRIPTION:Raphael Höhn präsentiert norddeutsche Kantaten und Instrumentalmusik mit Ensemble zum Saisonabschluss.\n\nhttps://eventfrog.at/de/p/klassik-opern/klassik/es-ist-genug-norddeutsche-kantatenfuer-tenor-und-streicher-7452355563030058164.html
LOCATION:Kartäuserkirche
GEO:47.558400;7.597130
URL:https://eventfrog.at/de/p/klassik-opern/klassik/es-ist-genug-norddeutsche-kantatenfuer-tenor-und-streicher-7452355563030058164.html
END:VEVENT
BEGIN:VEVENT
UID:20260424T072655Z-7452356099368324815@eventfrog.at
DTSTAMP:20260424T072655Z
DTSTART:20260628T150000Z
SUMMARY:«Es ist genug: Norddeutsche Kantatenfür Tenor und Streicher»
DESCRIPTION:Raphael Höhn singt norddeutsche Kantaten mit Instrumentalbegleitung zum Saisonabschluss in einem abwechslungsreichen Soloprogramm.\n\nhttps://eventfrog.at/de/p/klassik-opern/klassik/es-ist-genug-norddeutsche-kantatenfuer-tenor-und-streicher-7452356099368324815.html
LOCATION:Kulturhaus Helferei
GEO:47.370333;8.545104
URL:https://eventfrog.at/de/p/klassik-opern/klassik/es-ist-genug-norddeutsche-kantatenfuer-tenor-und-streicher-7452356099368324815.html
END:VEVENT
END:VCALENDAR