BEGIN:VCALENDAR
VERSION:2.0
PRODID:EVENTFROG//EVENTGROUP//ICAL
BEGIN:VEVENT
UID:20260422T145238Z-7452350563147091789@eventfrog.at
DTSTAMP:20260422T145238Z
DTSTART:20260516T150000Z
DTEND:20260516T215900Z
SUMMARY:3. Niederbühler Meerrettichfest
DESCRIPTION:Am 16./17. Mai 2026 lädt das Meerrettichfest mit Tanz mit Ralf Müller, Essen und Musik im Pfarrgarten St. Laurentius in Niederbühl zum Feiern ein.\n\nhttps://eventfrog.at/de/p/volksfeste/sommerfest/3-niederbuehler-meerrettichfest-7452350563147091789.html
LOCATION:Pfarrgarten St. Laurentius Niederbühl
GEO:48.843027;8.217045
URL:https://eventfrog.at/de/p/volksfeste/sommerfest/3-niederbuehler-meerrettichfest-7452350563147091789.html
END:VEVENT
BEGIN:VEVENT
UID:20260422T145238Z-7452351120448431864@eventfrog.at
DTSTAMP:20260422T145238Z
DTSTART:20260517T093000Z
DTEND:20260517T160000Z
SUMMARY:3. Niederbühler Meerrettichfest
DESCRIPTION:Am 16./17. Mai 2026 lädt das Meerrettichfest mit Tanz mit Ralf Müller, Essen und Musik im Pfarrgarten St. Laurentius in Niederbühl zum Feiern ein.\n\nhttps://eventfrog.at/de/p/volksfeste/sommerfest/3-niederbuehler-meerrettichfest-7452351120448431864.html
LOCATION:Pfarrgarten St. Laurentius Niederbühl
GEO:48.843027;8.217045
URL:https://eventfrog.at/de/p/volksfeste/sommerfest/3-niederbuehler-meerrettichfest-7452351120448431864.html
END:VEVENT
END:VCALENDAR