BEGIN:VCALENDAR
VERSION:2.0
PRODID:EVENTFROG//EVENTGROUP//ICAL
BEGIN:VEVENT
UID:20260424T105140Z-7452346343010391162@eventfrog.at
DTSTAMP:20260424T105140Z
DTSTART:20261206T100000Z
DTEND:20261206T104000Z
SUMMARY:Kinderklassik "Der Nussknacker und der Mäusekönig"
DESCRIPTION:Am Samichlaustag lädt ein Konzert mit Erzählung und Tschaikowskys Musik zu einer zauberhaften Reise in die Märchenwelt ein.\n\nhttps://eventfrog.at/de/p/konzerte/folk/kinderklassik-der-nussknacker-und-der-maeusekoenig-7452346343010391162.html
LOCATION:Zehntenscheune
GEO:47.405988;8.400865
URL:https://eventfrog.at/de/p/konzerte/folk/kinderklassik-der-nussknacker-und-der-maeusekoenig-7452346343010391162.html
END:VEVENT
BEGIN:VEVENT
UID:20260424T105140Z-7452346553950336908@eventfrog.at
DTSTAMP:20260424T105140Z
DTSTART:20261206T150000Z
DTEND:20261206T154000Z
SUMMARY:Kinderklassik "Der Nussknacker und der Mäusekönig"
DESCRIPTION:Am Samichlaustag lädt ein Konzert mit Erzählung und Tschaikowskys Musik zu einer zauberhaften Reise in die Märchenwelt ein.\n\nhttps://eventfrog.at/de/p/konzerte/folk/kinderklassik-der-nussknacker-und-der-maeusekoenig-7452346553950336908.html
LOCATION:Zehntenscheune
GEO:47.405988;8.400865
URL:https://eventfrog.at/de/p/konzerte/folk/kinderklassik-der-nussknacker-und-der-maeusekoenig-7452346553950336908.html
END:VEVENT
END:VCALENDAR