BEGIN:VCALENDAR
VERSION:2.0
PRODID:EVENTFROG//EVENTGROUP//ICAL
BEGIN:VEVENT
UID:20260424T072554Z-7452303638880378207@eventfrog.at
DTSTAMP:20260424T072554Z
DTSTART:20260828T170000Z
DTEND:20260828T193000Z
SUMMARY:Hard Land - Das grosse Rämibühl-Musical
DESCRIPTION:Musical Hard Land - Nach dem Erfolgsroman von Benedict Wells\n\nhttps://eventfrog.at/de/p/musicals-shows/musical/hard-land-das-grosse-raemibuehl-musical-7452303638880378207.html
LOCATION:Aula Rämibühl
GEO:47.371613;8.553032
URL:https://eventfrog.at/de/p/musicals-shows/musical/hard-land-das-grosse-raemibuehl-musical-7452303638880378207.html
END:VEVENT
BEGIN:VEVENT
UID:20260424T072554Z-7452304642065611656@eventfrog.at
DTSTAMP:20260424T072554Z
DTSTART:20260829T170000Z
DTEND:20260829T193000Z
SUMMARY:Hard Land - Das grosse Rämibühl-Musical
DESCRIPTION:Musical Hard Land - Nach dem Erfolgsroman von Benedict Wells\n\nhttps://eventfrog.at/de/p/musicals-shows/musical/hard-land-das-grosse-raemibuehl-musical-7452304642065611656.html
LOCATION:Aula Rämibühl
GEO:47.371613;8.553032
URL:https://eventfrog.at/de/p/musicals-shows/musical/hard-land-das-grosse-raemibuehl-musical-7452304642065611656.html
END:VEVENT
BEGIN:VEVENT
UID:20260424T072554Z-7452311578051896687@eventfrog.at
DTSTAMP:20260424T072554Z
DTSTART:20260830T150000Z
DTEND:20260830T173000Z
SUMMARY:Hard Land - Das grosse Rämibühl-Musical
DESCRIPTION:Musical Hard Land - Nach dem Erfolgsroman von Benedict Wells\n\nhttps://eventfrog.at/de/p/musicals-shows/musical/hard-land-das-grosse-raemibuehl-musical-7452311578051896687.html
LOCATION:Aula Rämibühl
GEO:47.371613;8.553032
URL:https://eventfrog.at/de/p/musicals-shows/musical/hard-land-das-grosse-raemibuehl-musical-7452311578051896687.html
END:VEVENT
BEGIN:VEVENT
UID:20260424T072554Z-7452311723476813436@eventfrog.at
DTSTAMP:20260424T072554Z
DTSTART:20260902T170000Z
DTEND:20260902T193000Z
SUMMARY:Hard Land - Das grosse Rämibühl-Musical
DESCRIPTION:Musical Hard Land - Nach dem Erfolgsroman von Benedict Wells\n\nhttps://eventfrog.at/de/p/musicals-shows/musical/hard-land-das-grosse-raemibuehl-musical-7452311723476813436.html
LOCATION:Aula Rämibühl
GEO:47.371613;8.553032
URL:https://eventfrog.at/de/p/musicals-shows/musical/hard-land-das-grosse-raemibuehl-musical-7452311723476813436.html
END:VEVENT
BEGIN:VEVENT
UID:20260424T072554Z-7452311803722247008@eventfrog.at
DTSTAMP:20260424T072554Z
DTSTART:20260903T170000Z
DTEND:20260903T193000Z
SUMMARY:Hard Land - Das grosse Rämibühl-Musical
DESCRIPTION:Musical Hard Land - Nach dem Erfolgsroman von Benedict Wells\n\nhttps://eventfrog.at/de/p/musicals-shows/musical/hard-land-das-grosse-raemibuehl-musical-7452311803722247008.html
LOCATION:Aula Rämibühl
GEO:47.371613;8.553032
URL:https://eventfrog.at/de/p/musicals-shows/musical/hard-land-das-grosse-raemibuehl-musical-7452311803722247008.html
END:VEVENT
BEGIN:VEVENT
UID:20260424T072554Z-7452312002540654951@eventfrog.at
DTSTAMP:20260424T072554Z
DTSTART:20260904T170000Z
DTEND:20260904T193000Z
SUMMARY:Hard Land - Das grosse Rämibühl-Musical
DESCRIPTION:Musical Hard Land - Nach dem Erfolgsroman von Benedict Wells\n\nhttps://eventfrog.at/de/p/musicals-shows/musical/hard-land-das-grosse-raemibuehl-musical-7452312002540654951.html
LOCATION:Aula Rämibühl
GEO:47.371613;8.553032
URL:https://eventfrog.at/de/p/musicals-shows/musical/hard-land-das-grosse-raemibuehl-musical-7452312002540654951.html
END:VEVENT
END:VCALENDAR