BEGIN:VCALENDAR
VERSION:2.0
PRODID:EVENTFROG//EVENTGROUP//ICAL
BEGIN:VEVENT
UID:20260424T062234Z-7452258937661844719@eventfrog.at
DTSTAMP:20260424T062234Z
DTSTART:20260503T093000Z
DTEND:20260503T103000Z
SUMMARY:Sonntagsführung
DESCRIPTION:Sonntagsführung durch die Ausstellung «HAP Grieshaber – Einschnitt  Ausdruck. Sammlung Würth»\n\nhttps://eventfrog.at/en/p/art-exhibitions/other-art-events/sonntagsfuehrung-7452258937661844719.html
LOCATION:Forum Würth Arlesheim
GEO:47.497009;7.607158
URL:https://eventfrog.at/en/p/art-exhibitions/other-art-events/sonntagsfuehrung-7452258937661844719.html
END:VEVENT
BEGIN:VEVENT
UID:20260424T062234Z-7452258937775090929@eventfrog.at
DTSTAMP:20260424T062234Z
DTSTART:20260510T093000Z
DTEND:20260510T103000Z
SUMMARY:Sonntagsführung
DESCRIPTION:Sonntagsführung durch die Ausstellung «HAP Grieshaber – Einschnitt  Ausdruck. Sammlung Würth»\n\nhttps://eventfrog.at/en/p/art-exhibitions/other-art-events/sonntagsfuehrung-7452258937775090929.html
LOCATION:Forum Würth Arlesheim
GEO:47.497009;7.607158
URL:https://eventfrog.at/en/p/art-exhibitions/other-art-events/sonntagsfuehrung-7452258937775090929.html
END:VEVENT
BEGIN:VEVENT
UID:20260424T062234Z-7452258937892531443@eventfrog.at
DTSTAMP:20260424T062234Z
DTSTART:20260517T093000Z
DTEND:20260517T103000Z
SUMMARY:Sonntagsführung
DESCRIPTION:Sonntagsführung durch die Ausstellung «HAP Grieshaber – Einschnitt  Ausdruck. Sammlung Würth»\n\nhttps://eventfrog.at/en/p/art-exhibitions/other-art-events/sonntagsfuehrung-7452258937892531443.html
LOCATION:Forum Würth Arlesheim
GEO:47.497009;7.607158
URL:https://eventfrog.at/en/p/art-exhibitions/other-art-events/sonntagsfuehrung-7452258937892531443.html
END:VEVENT
BEGIN:VEVENT
UID:20260424T062234Z-7452258937980611829@eventfrog.at
DTSTAMP:20260424T062234Z
DTSTART:20260524T093000Z
DTEND:20260524T103000Z
SUMMARY:Sonntagsführung
DESCRIPTION:Sonntagsführung durch die Ausstellung «HAP Grieshaber – Einschnitt  Ausdruck. Sammlung Würth»\n\nhttps://eventfrog.at/en/p/art-exhibitions/other-art-events/sonntagsfuehrung-7452258937980611829.html
LOCATION:Forum Würth Arlesheim
GEO:47.497009;7.607158
URL:https://eventfrog.at/en/p/art-exhibitions/other-art-events/sonntagsfuehrung-7452258937980611829.html
END:VEVENT
BEGIN:VEVENT
UID:20260424T062234Z-7452258938056109303@eventfrog.at
DTSTAMP:20260424T062234Z
DTSTART:20260531T093000Z
DTEND:20260531T103000Z
SUMMARY:Sonntagsführung
DESCRIPTION:Sonntagsführung durch die Ausstellung «HAP Grieshaber – Einschnitt  Ausdruck. Sammlung Würth»\n\nhttps://eventfrog.at/en/p/art-exhibitions/other-art-events/sonntagsfuehrung-7452258938056109303.html
LOCATION:Forum Würth Arlesheim
GEO:47.497009;7.607158
URL:https://eventfrog.at/en/p/art-exhibitions/other-art-events/sonntagsfuehrung-7452258938056109303.html
END:VEVENT
BEGIN:VEVENT
UID:20260424T062234Z-7452258938131606777@eventfrog.at
DTSTAMP:20260424T062234Z
DTSTART:20260607T093000Z
DTEND:20260607T103000Z
SUMMARY:Sonntagsführung
DESCRIPTION:Sonntagsführung durch die Ausstellung «HAP Grieshaber – Einschnitt  Ausdruck. Sammlung Würth»\n\nhttps://eventfrog.at/en/p/art-exhibitions/other-art-events/sonntagsfuehrung-7452258938131606777.html
LOCATION:Forum Würth Arlesheim
GEO:47.497009;7.607158
URL:https://eventfrog.at/en/p/art-exhibitions/other-art-events/sonntagsfuehrung-7452258938131606777.html
END:VEVENT
BEGIN:VEVENT
UID:20260424T062234Z-7452258938207104251@eventfrog.at
DTSTAMP:20260424T062234Z
DTSTART:20260614T093000Z
DTEND:20260614T103000Z
SUMMARY:Sonntagsführung
DESCRIPTION:Sonntagsführung durch die Ausstellung «HAP Grieshaber – Einschnitt  Ausdruck. Sammlung Würth»\n\nhttps://eventfrog.at/en/p/art-exhibitions/other-art-events/sonntagsfuehrung-7452258938207104251.html
LOCATION:Forum Würth Arlesheim
GEO:47.497009;7.607158
URL:https://eventfrog.at/en/p/art-exhibitions/other-art-events/sonntagsfuehrung-7452258938207104251.html
END:VEVENT
BEGIN:VEVENT
UID:20260424T062234Z-7452258938274213117@eventfrog.at
DTSTAMP:20260424T062234Z
DTSTART:20260621T093000Z
DTEND:20260621T103000Z
SUMMARY:Sonntagsführung
DESCRIPTION:Sonntagsführung durch die Ausstellung «HAP Grieshaber – Einschnitt  Ausdruck. Sammlung Würth»\n\nhttps://eventfrog.at/en/p/art-exhibitions/other-art-events/sonntagsfuehrung-7452258938274213117.html
LOCATION:Forum Würth Arlesheim
GEO:47.497009;7.607158
URL:https://eventfrog.at/en/p/art-exhibitions/other-art-events/sonntagsfuehrung-7452258938274213117.html
END:VEVENT
BEGIN:VEVENT
UID:20260424T062234Z-7452258938345516287@eventfrog.at
DTSTAMP:20260424T062234Z
DTSTART:20260628T093000Z
DTEND:20260628T103000Z
SUMMARY:Sonntagsführung
DESCRIPTION:Sonntagsführung durch die Ausstellung «HAP Grieshaber – Einschnitt  Ausdruck. Sammlung Würth»\n\nhttps://eventfrog.at/en/p/art-exhibitions/other-art-events/sonntagsfuehrung-7452258938345516287.html
LOCATION:Forum Würth Arlesheim
GEO:47.497009;7.607158
URL:https://eventfrog.at/en/p/art-exhibitions/other-art-events/sonntagsfuehrung-7452258938345516287.html
END:VEVENT
BEGIN:VEVENT
UID:20260424T062234Z-7452258938412625153@eventfrog.at
DTSTAMP:20260424T062234Z
DTSTART:20260705T093000Z
DTEND:20260705T103000Z
SUMMARY:Sonntagsführung
DESCRIPTION:Sonntagsführung durch die Ausstellung «HAP Grieshaber – Einschnitt  Ausdruck. Sammlung Würth»\n\nhttps://eventfrog.at/en/p/art-exhibitions/other-art-events/sonntagsfuehrung-7452258938412625153.html
LOCATION:Forum Würth Arlesheim
GEO:47.497009;7.607158
URL:https://eventfrog.at/en/p/art-exhibitions/other-art-events/sonntagsfuehrung-7452258938412625153.html
END:VEVENT
BEGIN:VEVENT
UID:20260424T062234Z-7452258938479734019@eventfrog.at
DTSTAMP:20260424T062234Z
DTSTART:20260712T093000Z
DTEND:20260712T103000Z
SUMMARY:Sonntagsführung
DESCRIPTION:Sonntagsführung durch die Ausstellung «HAP Grieshaber – Einschnitt  Ausdruck. Sammlung Würth»\n\nhttps://eventfrog.at/en/p/art-exhibitions/other-art-events/sonntagsfuehrung-7452258938479734019.html
LOCATION:Forum Würth Arlesheim
GEO:47.497009;7.607158
URL:https://eventfrog.at/en/p/art-exhibitions/other-art-events/sonntagsfuehrung-7452258938479734019.html
END:VEVENT
BEGIN:VEVENT
UID:20260424T062234Z-7452258938592980229@eventfrog.at
DTSTAMP:20260424T062234Z
DTSTART:20260719T093000Z
DTEND:20260719T103000Z
SUMMARY:Sonntagsführung
DESCRIPTION:Sonntagsführung durch die Ausstellung «HAP Grieshaber – Einschnitt  Ausdruck. Sammlung Würth»\n\nhttps://eventfrog.at/en/p/art-exhibitions/other-art-events/sonntagsfuehrung-7452258938592980229.html
LOCATION:Forum Würth Arlesheim
GEO:47.497009;7.607158
URL:https://eventfrog.at/en/p/art-exhibitions/other-art-events/sonntagsfuehrung-7452258938592980229.html
END:VEVENT
BEGIN:VEVENT
UID:20260424T062234Z-7452258938743975175@eventfrog.at
DTSTAMP:20260424T062234Z
DTSTART:20260726T093000Z
DTEND:20260726T103000Z
SUMMARY:Sonntagsführung
DESCRIPTION:Sonntagsführung durch die Ausstellung «HAP Grieshaber – Einschnitt  Ausdruck. Sammlung Würth»\n\nhttps://eventfrog.at/en/p/art-exhibitions/other-art-events/sonntagsfuehrung-7452258938743975175.html
LOCATION:Forum Würth Arlesheim
GEO:47.497009;7.607158
URL:https://eventfrog.at/en/p/art-exhibitions/other-art-events/sonntagsfuehrung-7452258938743975175.html
END:VEVENT
BEGIN:VEVENT
UID:20260424T062234Z-7452258938890775817@eventfrog.at
DTSTAMP:20260424T062234Z
DTSTART:20260802T093000Z
DTEND:20260802T103000Z
SUMMARY:Sonntagsführung
DESCRIPTION:Sonntagsführung durch die Ausstellung «HAP Grieshaber – Einschnitt  Ausdruck. Sammlung Würth»\n\nhttps://eventfrog.at/en/p/art-exhibitions/other-art-events/sonntagsfuehrung-7452258938890775817.html
LOCATION:Forum Würth Arlesheim
GEO:47.497009;7.607158
URL:https://eventfrog.at/en/p/art-exhibitions/other-art-events/sonntagsfuehrung-7452258938890775817.html
END:VEVENT
BEGIN:VEVENT
UID:20260424T062234Z-7452258938983050507@eventfrog.at
DTSTAMP:20260424T062234Z
DTSTART:20260809T093000Z
DTEND:20260809T103000Z
SUMMARY:Sonntagsführung
DESCRIPTION:Sonntagsführung durch die Ausstellung «HAP Grieshaber – Einschnitt  Ausdruck. Sammlung Würth»\n\nhttps://eventfrog.at/en/p/art-exhibitions/other-art-events/sonntagsfuehrung-7452258938983050507.html
LOCATION:Forum Würth Arlesheim
GEO:47.497009;7.607158
URL:https://eventfrog.at/en/p/art-exhibitions/other-art-events/sonntagsfuehrung-7452258938983050507.html
END:VEVENT
BEGIN:VEVENT
UID:20260424T062234Z-7452258939066936589@eventfrog.at
DTSTAMP:20260424T062234Z
DTSTART:20260816T093000Z
DTEND:20260816T103000Z
SUMMARY:Sonntagsführung
DESCRIPTION:Sonntagsführung durch die Ausstellung «HAP Grieshaber – Einschnitt  Ausdruck. Sammlung Würth»\n\nhttps://eventfrog.at/en/p/art-exhibitions/other-art-events/sonntagsfuehrung-7452258939066936589.html
LOCATION:Forum Würth Arlesheim
GEO:47.497009;7.607158
URL:https://eventfrog.at/en/p/art-exhibitions/other-art-events/sonntagsfuehrung-7452258939066936589.html
END:VEVENT
BEGIN:VEVENT
UID:20260424T062234Z-7452258939142434063@eventfrog.at
DTSTAMP:20260424T062234Z
DTSTART:20260823T093000Z
DTEND:20260823T103000Z
SUMMARY:Sonntagsführung
DESCRIPTION:Sonntagsführung durch die Ausstellung «HAP Grieshaber – Einschnitt  Ausdruck. Sammlung Würth»\n\nhttps://eventfrog.at/en/p/art-exhibitions/other-art-events/sonntagsfuehrung-7452258939142434063.html
LOCATION:Forum Würth Arlesheim
GEO:47.497009;7.607158
URL:https://eventfrog.at/en/p/art-exhibitions/other-art-events/sonntagsfuehrung-7452258939142434063.html
END:VEVENT
BEGIN:VEVENT
UID:20260424T062234Z-7452258939213737233@eventfrog.at
DTSTAMP:20260424T062234Z
DTSTART:20260830T093000Z
DTEND:20260830T103000Z
SUMMARY:Sonntagsführung
DESCRIPTION:Sonntagsführung durch die Ausstellung «HAP Grieshaber – Einschnitt  Ausdruck. Sammlung Würth»\n\nhttps://eventfrog.at/en/p/art-exhibitions/other-art-events/sonntagsfuehrung-7452258939213737233.html
LOCATION:Forum Würth Arlesheim
GEO:47.497009;7.607158
URL:https://eventfrog.at/en/p/art-exhibitions/other-art-events/sonntagsfuehrung-7452258939213737233.html
END:VEVENT
BEGIN:VEVENT
UID:20260424T062234Z-7452258939285040403@eventfrog.at
DTSTAMP:20260424T062234Z
DTSTART:20260906T093000Z
DTEND:20260906T103000Z
SUMMARY:Sonntagsführung
DESCRIPTION:Sonntagsführung durch die Ausstellung «HAP Grieshaber – Einschnitt  Ausdruck. Sammlung Würth»\n\nhttps://eventfrog.at/en/p/art-exhibitions/other-art-events/sonntagsfuehrung-7452258939285040403.html
LOCATION:Forum Würth Arlesheim
GEO:47.497009;7.607158
URL:https://eventfrog.at/en/p/art-exhibitions/other-art-events/sonntagsfuehrung-7452258939285040403.html
END:VEVENT
BEGIN:VEVENT
UID:20260424T062234Z-7452258939356343573@eventfrog.at
DTSTAMP:20260424T062234Z
DTSTART:20260913T093000Z
DTEND:20260913T103000Z
SUMMARY:Sonntagsführung
DESCRIPTION:Sonntagsführung durch die Ausstellung «HAP Grieshaber – Einschnitt  Ausdruck. Sammlung Würth»\n\nhttps://eventfrog.at/en/p/art-exhibitions/other-art-events/sonntagsfuehrung-7452258939356343573.html
LOCATION:Forum Würth Arlesheim
GEO:47.497009;7.607158
URL:https://eventfrog.at/en/p/art-exhibitions/other-art-events/sonntagsfuehrung-7452258939356343573.html
END:VEVENT
BEGIN:VEVENT
UID:20260424T062234Z-7452258939427646743@eventfrog.at
DTSTAMP:20260424T062234Z
DTSTART:20260920T093000Z
DTEND:20260920T103000Z
SUMMARY:Sonntagsführung
DESCRIPTION:Sonntagsführung durch die Ausstellung «HAP Grieshaber – Einschnitt  Ausdruck. Sammlung Würth»\n\nhttps://eventfrog.at/en/p/art-exhibitions/other-art-events/sonntagsfuehrung-7452258939427646743.html
LOCATION:Forum Würth Arlesheim
GEO:47.497009;7.607158
URL:https://eventfrog.at/en/p/art-exhibitions/other-art-events/sonntagsfuehrung-7452258939427646743.html
END:VEVENT
BEGIN:VEVENT
UID:20260424T062234Z-7452258939498949913@eventfrog.at
DTSTAMP:20260424T062234Z
DTSTART:20260927T093000Z
DTEND:20260927T103000Z
SUMMARY:Sonntagsführung
DESCRIPTION:Sonntagsführung durch die Ausstellung «HAP Grieshaber – Einschnitt  Ausdruck. Sammlung Würth»\n\nhttps://eventfrog.at/en/p/art-exhibitions/other-art-events/sonntagsfuehrung-7452258939498949913.html
LOCATION:Forum Würth Arlesheim
GEO:47.497009;7.607158
URL:https://eventfrog.at/en/p/art-exhibitions/other-art-events/sonntagsfuehrung-7452258939498949913.html
END:VEVENT
BEGIN:VEVENT
UID:20260424T062234Z-7452258939566058779@eventfrog.at
DTSTAMP:20260424T062234Z
DTSTART:20261004T093000Z
DTEND:20261004T103000Z
SUMMARY:Sonntagsführung
DESCRIPTION:Sonntagsführung durch die Ausstellung «HAP Grieshaber – Einschnitt  Ausdruck. Sammlung Würth»\n\nhttps://eventfrog.at/en/p/art-exhibitions/other-art-events/sonntagsfuehrung-7452258939566058779.html
LOCATION:Forum Würth Arlesheim
GEO:47.497009;7.607158
URL:https://eventfrog.at/en/p/art-exhibitions/other-art-events/sonntagsfuehrung-7452258939566058779.html
END:VEVENT
BEGIN:VEVENT
UID:20260424T062234Z-7452258939641556253@eventfrog.at
DTSTAMP:20260424T062234Z
DTSTART:20261011T093000Z
DTEND:20261011T103000Z
SUMMARY:Sonntagsführung
DESCRIPTION:Sonntagsführung durch die Ausstellung «HAP Grieshaber – Einschnitt  Ausdruck. Sammlung Würth»\n\nhttps://eventfrog.at/en/p/art-exhibitions/other-art-events/sonntagsfuehrung-7452258939641556253.html
LOCATION:Forum Würth Arlesheim
GEO:47.497009;7.607158
URL:https://eventfrog.at/en/p/art-exhibitions/other-art-events/sonntagsfuehrung-7452258939641556253.html
END:VEVENT
BEGIN:VEVENT
UID:20260424T062234Z-7452258939712859424@eventfrog.at
DTSTAMP:20260424T062234Z
DTSTART:20261018T093000Z
DTEND:20261018T103000Z
SUMMARY:Sonntagsführung
DESCRIPTION:Sonntagsführung durch die Ausstellung «HAP Grieshaber – Einschnitt  Ausdruck. Sammlung Würth»\n\nhttps://eventfrog.at/en/p/art-exhibitions/other-art-events/sonntagsfuehrung-7452258939712859424.html
LOCATION:Forum Würth Arlesheim
GEO:47.497009;7.607158
URL:https://eventfrog.at/en/p/art-exhibitions/other-art-events/sonntagsfuehrung-7452258939712859424.html
END:VEVENT
BEGIN:VEVENT
UID:20260424T062234Z-7452258939771579682@eventfrog.at
DTSTAMP:20260424T062234Z
DTSTART:20261025T103000Z
DTEND:20261025T113000Z
SUMMARY:Sonntagsführung
DESCRIPTION:Sonntagsführung durch die Ausstellung «HAP Grieshaber – Einschnitt  Ausdruck. Sammlung Würth»\n\nhttps://eventfrog.at/en/p/art-exhibitions/other-art-events/sonntagsfuehrung-7452258939771579682.html
LOCATION:Forum Würth Arlesheim
GEO:47.497009;7.607158
URL:https://eventfrog.at/en/p/art-exhibitions/other-art-events/sonntagsfuehrung-7452258939771579682.html
END:VEVENT
BEGIN:VEVENT
UID:20260424T062234Z-7452258939834494245@eventfrog.at
DTSTAMP:20260424T062234Z
DTSTART:20261101T103000Z
DTEND:20261101T113000Z
SUMMARY:Sonntagsführung
DESCRIPTION:Sonntagsführung durch die Ausstellung «HAP Grieshaber – Einschnitt  Ausdruck. Sammlung Würth»\n\nhttps://eventfrog.at/en/p/art-exhibitions/other-art-events/sonntagsfuehrung-7452258939834494245.html
LOCATION:Forum Würth Arlesheim
GEO:47.497009;7.607158
URL:https://eventfrog.at/en/p/art-exhibitions/other-art-events/sonntagsfuehrung-7452258939834494245.html
END:VEVENT
BEGIN:VEVENT
UID:20260424T062234Z-7452258939893214503@eventfrog.at
DTSTAMP:20260424T062234Z
DTSTART:20261108T103000Z
DTEND:20261108T113000Z
SUMMARY:Sonntagsführung
DESCRIPTION:Sonntagsführung durch die Ausstellung «HAP Grieshaber – Einschnitt  Ausdruck. Sammlung Würth»\n\nhttps://eventfrog.at/en/p/art-exhibitions/other-art-events/sonntagsfuehrung-7452258939893214503.html
LOCATION:Forum Würth Arlesheim
GEO:47.497009;7.607158
URL:https://eventfrog.at/en/p/art-exhibitions/other-art-events/sonntagsfuehrung-7452258939893214503.html
END:VEVENT
BEGIN:VEVENT
UID:20260424T062234Z-7452258939960323369@eventfrog.at
DTSTAMP:20260424T062234Z
DTSTART:20261115T103000Z
DTEND:20261115T113000Z
SUMMARY:Sonntagsführung
DESCRIPTION:Sonntagsführung durch die Ausstellung «HAP Grieshaber – Einschnitt  Ausdruck. Sammlung Würth»\n\nhttps://eventfrog.at/en/p/art-exhibitions/other-art-events/sonntagsfuehrung-7452258939960323369.html
LOCATION:Forum Würth Arlesheim
GEO:47.497009;7.607158
URL:https://eventfrog.at/en/p/art-exhibitions/other-art-events/sonntagsfuehrung-7452258939960323369.html
END:VEVENT
BEGIN:VEVENT
UID:20260424T062234Z-7452258940019043627@eventfrog.at
DTSTAMP:20260424T062234Z
DTSTART:20261122T103000Z
DTEND:20261122T113000Z
SUMMARY:Sonntagsführung
DESCRIPTION:Sonntagsführung durch die Ausstellung «HAP Grieshaber – Einschnitt  Ausdruck. Sammlung Würth»\n\nhttps://eventfrog.at/en/p/art-exhibitions/other-art-events/sonntagsfuehrung-7452258940019043627.html
LOCATION:Forum Würth Arlesheim
GEO:47.497009;7.607158
URL:https://eventfrog.at/en/p/art-exhibitions/other-art-events/sonntagsfuehrung-7452258940019043627.html
END:VEVENT
BEGIN:VEVENT
UID:20260424T062234Z-7452258940081958189@eventfrog.at
DTSTAMP:20260424T062234Z
DTSTART:20261129T103000Z
DTEND:20261129T113000Z
SUMMARY:Sonntagsführung
DESCRIPTION:Sonntagsführung durch die Ausstellung «HAP Grieshaber – Einschnitt  Ausdruck. Sammlung Würth»\n\nhttps://eventfrog.at/en/p/art-exhibitions/other-art-events/sonntagsfuehrung-7452258940081958189.html
LOCATION:Forum Würth Arlesheim
GEO:47.497009;7.607158
URL:https://eventfrog.at/en/p/art-exhibitions/other-art-events/sonntagsfuehrung-7452258940081958189.html
END:VEVENT
BEGIN:VEVENT
UID:20260424T062234Z-7452258940140678447@eventfrog.at
DTSTAMP:20260424T062234Z
DTSTART:20261206T103000Z
DTEND:20261206T113000Z
SUMMARY:Sonntagsführung
DESCRIPTION:Sonntagsführung durch die Ausstellung «HAP Grieshaber – Einschnitt  Ausdruck. Sammlung Würth»\n\nhttps://eventfrog.at/en/p/art-exhibitions/other-art-events/sonntagsfuehrung-7452258940140678447.html
LOCATION:Forum Würth Arlesheim
GEO:47.497009;7.607158
URL:https://eventfrog.at/en/p/art-exhibitions/other-art-events/sonntagsfuehrung-7452258940140678447.html
END:VEVENT
BEGIN:VEVENT
UID:20260424T062234Z-7452258940199398705@eventfrog.at
DTSTAMP:20260424T062234Z
DTSTART:20261213T103000Z
DTEND:20261213T113000Z
SUMMARY:Sonntagsführung
DESCRIPTION:Sonntagsführung durch die Ausstellung «HAP Grieshaber – Einschnitt  Ausdruck. Sammlung Würth»\n\nhttps://eventfrog.at/en/p/art-exhibitions/other-art-events/sonntagsfuehrung-7452258940199398705.html
LOCATION:Forum Würth Arlesheim
GEO:47.497009;7.607158
URL:https://eventfrog.at/en/p/art-exhibitions/other-art-events/sonntagsfuehrung-7452258940199398705.html
END:VEVENT
BEGIN:VEVENT
UID:20260424T062234Z-7452258940262313267@eventfrog.at
DTSTAMP:20260424T062234Z
DTSTART:20261220T103000Z
DTEND:20261220T113000Z
SUMMARY:Sonntagsführung
DESCRIPTION:Sonntagsführung durch die Ausstellung «HAP Grieshaber – Einschnitt  Ausdruck. Sammlung Würth»\n\nhttps://eventfrog.at/en/p/art-exhibitions/other-art-events/sonntagsfuehrung-7452258940262313267.html
LOCATION:Forum Würth Arlesheim
GEO:47.497009;7.607158
URL:https://eventfrog.at/en/p/art-exhibitions/other-art-events/sonntagsfuehrung-7452258940262313267.html
END:VEVENT
BEGIN:VEVENT
UID:20260424T062234Z-7452258940329422135@eventfrog.at
DTSTAMP:20260424T062234Z
DTSTART:20261227T103000Z
DTEND:20261227T113000Z
SUMMARY:Sonntagsführung
DESCRIPTION:Sonntagsführung durch die Ausstellung «HAP Grieshaber – Einschnitt  Ausdruck. Sammlung Würth»\n\nhttps://eventfrog.at/en/p/art-exhibitions/other-art-events/sonntagsfuehrung-7452258940329422135.html
LOCATION:Forum Würth Arlesheim
GEO:47.497009;7.607158
URL:https://eventfrog.at/en/p/art-exhibitions/other-art-events/sonntagsfuehrung-7452258940329422135.html
END:VEVENT
BEGIN:VEVENT
UID:20260424T062234Z-7452258940388142393@eventfrog.at
DTSTAMP:20260424T062234Z
DTSTART:20270103T103000Z
DTEND:20270103T113000Z
SUMMARY:Sonntagsführung
DESCRIPTION:Sonntagsführung durch die Ausstellung «HAP Grieshaber – Einschnitt  Ausdruck. Sammlung Würth»\n\nhttps://eventfrog.at/en/p/art-exhibitions/other-art-events/sonntagsfuehrung-7452258940388142393.html
LOCATION:Forum Würth Arlesheim
GEO:47.497009;7.607158
URL:https://eventfrog.at/en/p/art-exhibitions/other-art-events/sonntagsfuehrung-7452258940388142393.html
END:VEVENT
BEGIN:VEVENT
UID:20260424T062234Z-7452258940446862651@eventfrog.at
DTSTAMP:20260424T062234Z
DTSTART:20270110T103000Z
DTEND:20270110T113000Z
SUMMARY:Sonntagsführung
DESCRIPTION:Sonntagsführung durch die Ausstellung «HAP Grieshaber – Einschnitt  Ausdruck. Sammlung Würth»\n\nhttps://eventfrog.at/en/p/art-exhibitions/other-art-events/sonntagsfuehrung-7452258940446862651.html
LOCATION:Forum Würth Arlesheim
GEO:47.497009;7.607158
URL:https://eventfrog.at/en/p/art-exhibitions/other-art-events/sonntagsfuehrung-7452258940446862651.html
END:VEVENT
BEGIN:VEVENT
UID:20260424T062234Z-7452258940509777213@eventfrog.at
DTSTAMP:20260424T062234Z
DTSTART:20270117T103000Z
DTEND:20270117T113000Z
SUMMARY:Sonntagsführung
DESCRIPTION:Sonntagsführung durch die Ausstellung «HAP Grieshaber – Einschnitt  Ausdruck. Sammlung Würth»\n\nhttps://eventfrog.at/en/p/art-exhibitions/other-art-events/sonntagsfuehrung-7452258940509777213.html
LOCATION:Forum Würth Arlesheim
GEO:47.497009;7.607158
URL:https://eventfrog.at/en/p/art-exhibitions/other-art-events/sonntagsfuehrung-7452258940509777213.html
END:VEVENT
BEGIN:VEVENT
UID:20260424T062234Z-7452258940568497471@eventfrog.at
DTSTAMP:20260424T062234Z
DTSTART:20270124T103000Z
DTEND:20270124T113000Z
SUMMARY:Sonntagsführung
DESCRIPTION:Sonntagsführung durch die Ausstellung «HAP Grieshaber – Einschnitt  Ausdruck. Sammlung Würth»\n\nhttps://eventfrog.at/en/p/art-exhibitions/other-art-events/sonntagsfuehrung-7452258940568497471.html
LOCATION:Forum Würth Arlesheim
GEO:47.497009;7.607158
URL:https://eventfrog.at/en/p/art-exhibitions/other-art-events/sonntagsfuehrung-7452258940568497471.html
END:VEVENT
BEGIN:VEVENT
UID:20260424T062234Z-7452258940631412033@eventfrog.at
DTSTAMP:20260424T062234Z
DTSTART:20270131T103000Z
DTEND:20270131T113000Z
SUMMARY:Sonntagsführung
DESCRIPTION:Sonntagsführung durch die Ausstellung «HAP Grieshaber – Einschnitt  Ausdruck. Sammlung Würth»\n\nhttps://eventfrog.at/en/p/art-exhibitions/other-art-events/sonntagsfuehrung-7452258940631412033.html
LOCATION:Forum Würth Arlesheim
GEO:47.497009;7.607158
URL:https://eventfrog.at/en/p/art-exhibitions/other-art-events/sonntagsfuehrung-7452258940631412033.html
END:VEVENT
BEGIN:VEVENT
UID:20260424T062234Z-7452258940702715203@eventfrog.at
DTSTAMP:20260424T062234Z
DTSTART:20270207T103000Z
DTEND:20270207T113000Z
SUMMARY:Sonntagsführung
DESCRIPTION:Sonntagsführung durch die Ausstellung «HAP Grieshaber – Einschnitt  Ausdruck. Sammlung Würth»\n\nhttps://eventfrog.at/en/p/art-exhibitions/other-art-events/sonntagsfuehrung-7452258940702715203.html
LOCATION:Forum Würth Arlesheim
GEO:47.497009;7.607158
URL:https://eventfrog.at/en/p/art-exhibitions/other-art-events/sonntagsfuehrung-7452258940702715203.html
END:VEVENT
BEGIN:VEVENT
UID:20260424T062234Z-7452258940761435461@eventfrog.at
DTSTAMP:20260424T062234Z
DTSTART:20270214T103000Z
DTEND:20270214T113000Z
SUMMARY:Sonntagsführung
DESCRIPTION:Sonntagsführung durch die Ausstellung «HAP Grieshaber – Einschnitt  Ausdruck. Sammlung Würth»\n\nhttps://eventfrog.at/en/p/art-exhibitions/other-art-events/sonntagsfuehrung-7452258940761435461.html
LOCATION:Forum Würth Arlesheim
GEO:47.497009;7.607158
URL:https://eventfrog.at/en/p/art-exhibitions/other-art-events/sonntagsfuehrung-7452258940761435461.html
END:VEVENT
BEGIN:VEVENT
UID:20260424T062234Z-7452258940853710152@eventfrog.at
DTSTAMP:20260424T062234Z
DTSTART:20270221T103000Z
DTEND:20270221T113000Z
SUMMARY:Sonntagsführung
DESCRIPTION:Sonntagsführung durch die Ausstellung «HAP Grieshaber – Einschnitt  Ausdruck. Sammlung Würth»\n\nhttps://eventfrog.at/en/p/art-exhibitions/other-art-events/sonntagsfuehrung-7452258940853710152.html
LOCATION:Forum Würth Arlesheim
GEO:47.497009;7.607158
URL:https://eventfrog.at/en/p/art-exhibitions/other-art-events/sonntagsfuehrung-7452258940853710152.html
END:VEVENT
BEGIN:VEVENT
UID:20260424T062234Z-7452258940962762059@eventfrog.at
DTSTAMP:20260424T062234Z
DTSTART:20270228T103000Z
DTEND:20270228T113000Z
SUMMARY:Sonntagsführung
DESCRIPTION:Sonntagsführung durch die Ausstellung «HAP Grieshaber – Einschnitt  Ausdruck. Sammlung Würth»\n\nhttps://eventfrog.at/en/p/art-exhibitions/other-art-events/sonntagsfuehrung-7452258940962762059.html
LOCATION:Forum Würth Arlesheim
GEO:47.497009;7.607158
URL:https://eventfrog.at/en/p/art-exhibitions/other-art-events/sonntagsfuehrung-7452258940962762059.html
END:VEVENT
BEGIN:VEVENT
UID:20260424T062234Z-7452258941071813965@eventfrog.at
DTSTAMP:20260424T062234Z
DTSTART:20270307T103000Z
DTEND:20270307T113000Z
SUMMARY:Sonntagsführung
DESCRIPTION:Sonntagsführung durch die Ausstellung «HAP Grieshaber – Einschnitt  Ausdruck. Sammlung Würth»\n\nhttps://eventfrog.at/en/p/art-exhibitions/other-art-events/sonntagsfuehrung-7452258941071813965.html
LOCATION:Forum Würth Arlesheim
GEO:47.497009;7.607158
URL:https://eventfrog.at/en/p/art-exhibitions/other-art-events/sonntagsfuehrung-7452258941071813965.html
END:VEVENT
BEGIN:VEVENT
UID:20260424T062234Z-7452258941159894351@eventfrog.at
DTSTAMP:20260424T062234Z
DTSTART:20270314T103000Z
DTEND:20270314T113000Z
SUMMARY:Sonntagsführung
DESCRIPTION:Sonntagsführung durch die Ausstellung «HAP Grieshaber – Einschnitt  Ausdruck. Sammlung Würth»\n\nhttps://eventfrog.at/en/p/art-exhibitions/other-art-events/sonntagsfuehrung-7452258941159894351.html
LOCATION:Forum Würth Arlesheim
GEO:47.497009;7.607158
URL:https://eventfrog.at/en/p/art-exhibitions/other-art-events/sonntagsfuehrung-7452258941159894351.html
END:VEVENT
BEGIN:VEVENT
UID:20260424T062234Z-7452258941273140561@eventfrog.at
DTSTAMP:20260424T062234Z
DTSTART:20270321T103000Z
DTEND:20270321T113000Z
SUMMARY:Sonntagsführung
DESCRIPTION:Sonntagsführung durch die Ausstellung «HAP Grieshaber – Einschnitt  Ausdruck. Sammlung Würth»\n\nhttps://eventfrog.at/en/p/art-exhibitions/other-art-events/sonntagsfuehrung-7452258941273140561.html
LOCATION:Forum Würth Arlesheim
GEO:47.497009;7.607158
URL:https://eventfrog.at/en/p/art-exhibitions/other-art-events/sonntagsfuehrung-7452258941273140561.html
END:VEVENT
BEGIN:VEVENT
UID:20260424T062234Z-7452258941344443731@eventfrog.at
DTSTAMP:20260424T062234Z
DTSTART:20270328T093000Z
DTEND:20270328T103000Z
SUMMARY:Sonntagsführung
DESCRIPTION:Sonntagsführung durch die Ausstellung «HAP Grieshaber – Einschnitt  Ausdruck. Sammlung Würth»\n\nhttps://eventfrog.at/en/p/art-exhibitions/other-art-events/sonntagsfuehrung-7452258941344443731.html
LOCATION:Forum Würth Arlesheim
GEO:47.497009;7.607158
URL:https://eventfrog.at/en/p/art-exhibitions/other-art-events/sonntagsfuehrung-7452258941344443731.html
END:VEVENT
BEGIN:VEVENT
UID:20260424T062234Z-7452258941453495637@eventfrog.at
DTSTAMP:20260424T062234Z
DTSTART:20270404T093000Z
DTEND:20270404T103000Z
SUMMARY:Sonntagsführung
DESCRIPTION:Sonntagsführung durch die Ausstellung «HAP Grieshaber – Einschnitt  Ausdruck. Sammlung Würth»\n\nhttps://eventfrog.at/en/p/art-exhibitions/other-art-events/sonntagsfuehrung-7452258941453495637.html
LOCATION:Forum Würth Arlesheim
GEO:47.497009;7.607158
URL:https://eventfrog.at/en/p/art-exhibitions/other-art-events/sonntagsfuehrung-7452258941453495637.html
END:VEVENT
BEGIN:VEVENT
UID:20260424T062234Z-7452258941524798807@eventfrog.at
DTSTAMP:20260424T062234Z
DTSTART:20270411T093000Z
DTEND:20270411T103000Z
SUMMARY:Sonntagsführung
DESCRIPTION:Sonntagsführung durch die Ausstellung «HAP Grieshaber – Einschnitt  Ausdruck. Sammlung Würth»\n\nhttps://eventfrog.at/en/p/art-exhibitions/other-art-events/sonntagsfuehrung-7452258941524798807.html
LOCATION:Forum Würth Arlesheim
GEO:47.497009;7.607158
URL:https://eventfrog.at/en/p/art-exhibitions/other-art-events/sonntagsfuehrung-7452258941524798807.html
END:VEVENT
BEGIN:VEVENT
UID:20260424T062234Z-7452258941587713369@eventfrog.at
DTSTAMP:20260424T062234Z
DTSTART:20270418T093000Z
DTEND:20270418T103000Z
SUMMARY:Sonntagsführung
DESCRIPTION:Sonntagsführung durch die Ausstellung «HAP Grieshaber – Einschnitt  Ausdruck. Sammlung Würth»\n\nhttps://eventfrog.at/en/p/art-exhibitions/other-art-events/sonntagsfuehrung-7452258941587713369.html
LOCATION:Forum Würth Arlesheim
GEO:47.497009;7.607158
URL:https://eventfrog.at/en/p/art-exhibitions/other-art-events/sonntagsfuehrung-7452258941587713369.html
END:VEVENT
BEGIN:VEVENT
UID:20260424T062234Z-7452258941654822235@eventfrog.at
DTSTAMP:20260424T062234Z
DTSTART:20270425T093000Z
DTEND:20270425T103000Z
SUMMARY:Sonntagsführung
DESCRIPTION:Sonntagsführung durch die Ausstellung «HAP Grieshaber – Einschnitt  Ausdruck. Sammlung Würth»\n\nhttps://eventfrog.at/en/p/art-exhibitions/other-art-events/sonntagsfuehrung-7452258941654822235.html
LOCATION:Forum Würth Arlesheim
GEO:47.497009;7.607158
URL:https://eventfrog.at/en/p/art-exhibitions/other-art-events/sonntagsfuehrung-7452258941654822235.html
END:VEVENT
BEGIN:VEVENT
UID:20260424T062234Z-7452258941751291229@eventfrog.at
DTSTAMP:20260424T062234Z
DTSTART:20270502T093000Z
DTEND:20270502T103000Z
SUMMARY:Sonntagsführung
DESCRIPTION:Sonntagsführung durch die Ausstellung «HAP Grieshaber – Einschnitt  Ausdruck. Sammlung Würth»\n\nhttps://eventfrog.at/en/p/art-exhibitions/other-art-events/sonntagsfuehrung-7452258941751291229.html
LOCATION:Forum Würth Arlesheim
GEO:47.497009;7.607158
URL:https://eventfrog.at/en/p/art-exhibitions/other-art-events/sonntagsfuehrung-7452258941751291229.html
END:VEVENT
END:VCALENDAR