BEGIN:VCALENDAR
VERSION:2.0
PRODID:EVENTFROG//EVENTGROUP//ICAL
BEGIN:VEVENT
UID:20260424T214236Z-7452252077584077101@eventfrog.at
DTSTAMP:20260424T214236Z
DTSTART:20261017T180000Z
SUMMARY:Charles Nguela - Timing
DESCRIPTION:Timing is everything. Nicht nur auf der Bühne, sondern auch im Leben.\n\n\nhttps://eventfrog.at/de/p/theater-buehne/comedy-kabarett/charles-nguela-timing-7452252077584077101.html
LOCATION:Theater Fauteuil
GEO:47.557349;7.586407
URL:https://eventfrog.at/de/p/theater-buehne/comedy-kabarett/charles-nguela-timing-7452252077584077101.html
END:VEVENT
BEGIN:VEVENT
UID:20260424T214236Z-7452252131522830053@eventfrog.at
DTSTAMP:20260424T214236Z
DTSTART:20261021T180000Z
SUMMARY:Charles Nguela - Timing
DESCRIPTION:Timing is everything. Nicht nur auf der Bühne, sondern auch im Leben.\n\n\nhttps://eventfrog.at/de/p/theater-buehne/comedy-kabarett/charles-nguela-timing-7452252131522830053.html
LOCATION:Theater Fauteuil
GEO:47.557349;7.586407
URL:https://eventfrog.at/de/p/theater-buehne/comedy-kabarett/charles-nguela-timing-7452252131522830053.html
END:VEVENT
BEGIN:VEVENT
UID:20260424T214236Z-7452252131787071818@eventfrog.at
DTSTAMP:20260424T214236Z
DTSTART:20261022T180000Z
SUMMARY:Charles Nguela - Timing
DESCRIPTION:Timing is everything. Nicht nur auf der Bühne, sondern auch im Leben.\n\n\nhttps://eventfrog.at/de/p/theater-buehne/comedy-kabarett/charles-nguela-timing-7452252131787071818.html
LOCATION:Theater Fauteuil
GEO:47.557349;7.586407
URL:https://eventfrog.at/de/p/theater-buehne/comedy-kabarett/charles-nguela-timing-7452252131787071818.html
END:VEVENT
END:VCALENDAR