BEGIN:VCALENDAR
VERSION:2.0
PRODID:EVENTFROG//EVENTGROUP//ICAL
BEGIN:VEVENT
UID:20260424T081740Z-7452115918904114158@eventfrog.at
DTSTAMP:20260424T081740Z
DTSTART:20260502T180000Z
SUMMARY:Anliker Dance Nights
DESCRIPTION:Vom Tango zum Wiener Walzer, uvm.\n\nhttps://eventfrog.at/de/p/partys/anliker-dance-nights-7452115918904114158.html
LOCATION:Tanzschule Anliker
GEO:47.439577;9.410081
URL:https://eventfrog.at/de/p/partys/anliker-dance-nights-7452115918904114158.html
END:VEVENT
BEGIN:VEVENT
UID:20260424T081740Z-7452115919076080624@eventfrog.at
DTSTAMP:20260424T081740Z
DTSTART:20260606T180000Z
SUMMARY:Anliker Dance Nights
DESCRIPTION:Vom Tango zum Wiener Walzer, uvm.\n\nhttps://eventfrog.at/de/p/partys/anliker-dance-nights-7452115919076080624.html
LOCATION:Tanzschule Anliker
GEO:47.439577;9.410081
URL:https://eventfrog.at/de/p/partys/anliker-dance-nights-7452115919076080624.html
END:VEVENT
END:VCALENDAR