BEGIN:VCALENDAR
VERSION:2.0
PRODID:EVENTFROG//EVENTGROUP//ICAL
BEGIN:VEVENT
UID:20260421T053745Z-7452110254253326161@eventfrog.at
DTSTAMP:20260421T053745Z
DTSTART:20260528T180000Z
DTEND:20260528T193000Z
SUMMARY:YOU
DESCRIPTION:Das Tanztheater YOU erforscht magische Lebensmomente und stellt tiefgehende Fragen zu Identität und Gemeinschaft.\n\nhttps://eventfrog.at/de/p/theater-buehne/tanz/you-7452110254253326161.html
LOCATION:Karlstorbahnhof
GEO:49.386545;8.681138
URL:https://eventfrog.at/de/p/theater-buehne/tanz/you-7452110254253326161.html
END:VEVENT
BEGIN:VEVENT
UID:20260421T053745Z-7452110702435695956@eventfrog.at
DTSTAMP:20260421T053745Z
DTSTART:20260529T180000Z
DTEND:20260529T193000Z
SUMMARY:YOU
DESCRIPTION:Das Tanztheater YOU erforscht magische Lebensmomente und stellt tiefgehende Fragen zu Identität und Gemeinschaft.\n\nhttps://eventfrog.at/de/p/theater-buehne/tanz/you-7452110702435695956.html
LOCATION:Karlstorbahnhof
GEO:49.386545;8.681138
URL:https://eventfrog.at/de/p/theater-buehne/tanz/you-7452110702435695956.html
END:VEVENT
END:VCALENDAR