BEGIN:VCALENDAR
VERSION:2.0
PRODID:EVENTFROG//EVENTGROUP//ICAL
BEGIN:VEVENT
UID:20260422T022828Z-7452042689221024630@eventfrog.at
DTSTAMP:20260422T022828Z
DTSTART:20260423T110000Z
DTEND:20260423T170000Z
SUMMARY:Symbiose der Form: Kunst trifft Materie
DESCRIPTION:Alex Doll und Beat Stähli vereinen expressive Malerei und Holzschnitzerei in einer Ausstellung ab dem 23. April 2026.\n\nhttps://eventfrog.at/de/p/kunst-ausstellungen/ausstellung/symbiose-der-form-kunst-trifft-materie-7452042689221024630.html
LOCATION:Alex Doll Galerie
GEO:46.948204;7.452714
URL:https://eventfrog.at/de/p/kunst-ausstellungen/ausstellung/symbiose-der-form-kunst-trifft-materie-7452042689221024630.html
END:VEVENT
BEGIN:VEVENT
UID:20260422T022828Z-7452042689292327800@eventfrog.at
DTSTAMP:20260422T022828Z
DTSTART:20260424T110000Z
DTEND:20260424T170000Z
SUMMARY:Symbiose der Form: Kunst trifft Materie
DESCRIPTION:Alex Doll und Beat Stähli vereinen expressive Malerei und Holzschnitzerei in einer Ausstellung ab dem 23. April 2026.\n\nhttps://eventfrog.at/de/p/kunst-ausstellungen/ausstellung/symbiose-der-form-kunst-trifft-materie-7452042689292327800.html
LOCATION:Alex Doll Galerie
GEO:46.948204;7.452714
URL:https://eventfrog.at/de/p/kunst-ausstellungen/ausstellung/symbiose-der-form-kunst-trifft-materie-7452042689292327800.html
END:VEVENT
BEGIN:VEVENT
UID:20260422T022828Z-7452042689376213882@eventfrog.at
DTSTAMP:20260422T022828Z
DTSTART:20260425T110000Z
DTEND:20260425T170000Z
SUMMARY:Symbiose der Form: Kunst trifft Materie
DESCRIPTION:Alex Doll und Beat Stähli vereinen expressive Malerei und Holzschnitzerei in einer Ausstellung ab dem 23. April 2026.\n\nhttps://eventfrog.at/de/p/kunst-ausstellungen/ausstellung/symbiose-der-form-kunst-trifft-materie-7452042689376213882.html
LOCATION:Alex Doll Galerie
GEO:46.948204;7.452714
URL:https://eventfrog.at/de/p/kunst-ausstellungen/ausstellung/symbiose-der-form-kunst-trifft-materie-7452042689376213882.html
END:VEVENT
BEGIN:VEVENT
UID:20260422T022828Z-7452042689447517052@eventfrog.at
DTSTAMP:20260422T022828Z
DTSTART:20260426T110000Z
DTEND:20260426T170000Z
SUMMARY:Symbiose der Form: Kunst trifft Materie
DESCRIPTION:Alex Doll und Beat Stähli vereinen expressive Malerei und Holzschnitzerei in einer Ausstellung ab dem 23. April 2026.\n\nhttps://eventfrog.at/de/p/kunst-ausstellungen/ausstellung/symbiose-der-form-kunst-trifft-materie-7452042689447517052.html
LOCATION:Alex Doll Galerie
GEO:46.948204;7.452714
URL:https://eventfrog.at/de/p/kunst-ausstellungen/ausstellung/symbiose-der-form-kunst-trifft-materie-7452042689447517052.html
END:VEVENT
BEGIN:VEVENT
UID:20260422T022828Z-7452042689523014526@eventfrog.at
DTSTAMP:20260422T022828Z
DTSTART:20260427T110000Z
DTEND:20260427T170000Z
SUMMARY:Symbiose der Form: Kunst trifft Materie
DESCRIPTION:Alex Doll und Beat Stähli vereinen expressive Malerei und Holzschnitzerei in einer Ausstellung ab dem 23. April 2026.\n\nhttps://eventfrog.at/de/p/kunst-ausstellungen/ausstellung/symbiose-der-form-kunst-trifft-materie-7452042689523014526.html
LOCATION:Alex Doll Galerie
GEO:46.948204;7.452714
URL:https://eventfrog.at/de/p/kunst-ausstellungen/ausstellung/symbiose-der-form-kunst-trifft-materie-7452042689523014526.html
END:VEVENT
BEGIN:VEVENT
UID:20260422T022828Z-7452042689585929088@eventfrog.at
DTSTAMP:20260422T022828Z
DTSTART:20260428T110000Z
DTEND:20260428T170000Z
SUMMARY:Symbiose der Form: Kunst trifft Materie
DESCRIPTION:Alex Doll und Beat Stähli vereinen expressive Malerei und Holzschnitzerei in einer Ausstellung ab dem 23. April 2026.\n\nhttps://eventfrog.at/de/p/kunst-ausstellungen/ausstellung/symbiose-der-form-kunst-trifft-materie-7452042689585929088.html
LOCATION:Alex Doll Galerie
GEO:46.948204;7.452714
URL:https://eventfrog.at/de/p/kunst-ausstellungen/ausstellung/symbiose-der-form-kunst-trifft-materie-7452042689585929088.html
END:VEVENT
BEGIN:VEVENT
UID:20260422T022828Z-7452042689657232258@eventfrog.at
DTSTAMP:20260422T022828Z
DTSTART:20260429T110000Z
DTEND:20260429T170000Z
SUMMARY:Symbiose der Form: Kunst trifft Materie
DESCRIPTION:Alex Doll und Beat Stähli vereinen expressive Malerei und Holzschnitzerei in einer Ausstellung ab dem 23. April 2026.\n\nhttps://eventfrog.at/de/p/kunst-ausstellungen/ausstellung/symbiose-der-form-kunst-trifft-materie-7452042689657232258.html
LOCATION:Alex Doll Galerie
GEO:46.948204;7.452714
URL:https://eventfrog.at/de/p/kunst-ausstellungen/ausstellung/symbiose-der-form-kunst-trifft-materie-7452042689657232258.html
END:VEVENT
BEGIN:VEVENT
UID:20260422T022828Z-7452042689724341124@eventfrog.at
DTSTAMP:20260422T022828Z
DTSTART:20260430T110000Z
DTEND:20260430T170000Z
SUMMARY:Symbiose der Form: Kunst trifft Materie
DESCRIPTION:Alex Doll und Beat Stähli vereinen expressive Malerei und Holzschnitzerei in einer Ausstellung ab dem 23. April 2026.\n\nhttps://eventfrog.at/de/p/kunst-ausstellungen/ausstellung/symbiose-der-form-kunst-trifft-materie-7452042689724341124.html
LOCATION:Alex Doll Galerie
GEO:46.948204;7.452714
URL:https://eventfrog.at/de/p/kunst-ausstellungen/ausstellung/symbiose-der-form-kunst-trifft-materie-7452042689724341124.html
END:VEVENT
BEGIN:VEVENT
UID:20260422T022828Z-7452042689808227206@eventfrog.at
DTSTAMP:20260422T022828Z
DTSTART:20260501T110000Z
DTEND:20260501T170000Z
SUMMARY:Symbiose der Form: Kunst trifft Materie
DESCRIPTION:Alex Doll und Beat Stähli vereinen expressive Malerei und Holzschnitzerei in einer Ausstellung ab dem 23. April 2026.\n\nhttps://eventfrog.at/de/p/kunst-ausstellungen/ausstellung/symbiose-der-form-kunst-trifft-materie-7452042689808227206.html
LOCATION:Alex Doll Galerie
GEO:46.948204;7.452714
URL:https://eventfrog.at/de/p/kunst-ausstellungen/ausstellung/symbiose-der-form-kunst-trifft-materie-7452042689808227206.html
END:VEVENT
BEGIN:VEVENT
UID:20260422T022828Z-7452042689875336072@eventfrog.at
DTSTAMP:20260422T022828Z
DTSTART:20260502T110000Z
DTEND:20260502T170000Z
SUMMARY:Symbiose der Form: Kunst trifft Materie
DESCRIPTION:Alex Doll und Beat Stähli vereinen expressive Malerei und Holzschnitzerei in einer Ausstellung ab dem 23. April 2026.\n\nhttps://eventfrog.at/de/p/kunst-ausstellungen/ausstellung/symbiose-der-form-kunst-trifft-materie-7452042689875336072.html
LOCATION:Alex Doll Galerie
GEO:46.948204;7.452714
URL:https://eventfrog.at/de/p/kunst-ausstellungen/ausstellung/symbiose-der-form-kunst-trifft-materie-7452042689875336072.html
END:VEVENT
BEGIN:VEVENT
UID:20260422T022828Z-7452042689942444938@eventfrog.at
DTSTAMP:20260422T022828Z
DTSTART:20260503T110000Z
DTEND:20260503T170000Z
SUMMARY:Symbiose der Form: Kunst trifft Materie
DESCRIPTION:Alex Doll und Beat Stähli vereinen expressive Malerei und Holzschnitzerei in einer Ausstellung ab dem 23. April 2026.\n\nhttps://eventfrog.at/de/p/kunst-ausstellungen/ausstellung/symbiose-der-form-kunst-trifft-materie-7452042689942444938.html
LOCATION:Alex Doll Galerie
GEO:46.948204;7.452714
URL:https://eventfrog.at/de/p/kunst-ausstellungen/ausstellung/symbiose-der-form-kunst-trifft-materie-7452042689942444938.html
END:VEVENT
BEGIN:VEVENT
UID:20260422T022828Z-7452042690009553804@eventfrog.at
DTSTAMP:20260422T022828Z
DTSTART:20260504T110000Z
DTEND:20260504T170000Z
SUMMARY:Symbiose der Form: Kunst trifft Materie
DESCRIPTION:Alex Doll und Beat Stähli vereinen expressive Malerei und Holzschnitzerei in einer Ausstellung ab dem 23. April 2026.\n\nhttps://eventfrog.at/de/p/kunst-ausstellungen/ausstellung/symbiose-der-form-kunst-trifft-materie-7452042690009553804.html
LOCATION:Alex Doll Galerie
GEO:46.948204;7.452714
URL:https://eventfrog.at/de/p/kunst-ausstellungen/ausstellung/symbiose-der-form-kunst-trifft-materie-7452042690009553804.html
END:VEVENT
BEGIN:VEVENT
UID:20260422T022828Z-7452042690076662671@eventfrog.at
DTSTAMP:20260422T022828Z
DTSTART:20260505T110000Z
DTEND:20260505T170000Z
SUMMARY:Symbiose der Form: Kunst trifft Materie
DESCRIPTION:Alex Doll und Beat Stähli vereinen expressive Malerei und Holzschnitzerei in einer Ausstellung ab dem 23. April 2026.\n\nhttps://eventfrog.at/de/p/kunst-ausstellungen/ausstellung/symbiose-der-form-kunst-trifft-materie-7452042690076662671.html
LOCATION:Alex Doll Galerie
GEO:46.948204;7.452714
URL:https://eventfrog.at/de/p/kunst-ausstellungen/ausstellung/symbiose-der-form-kunst-trifft-materie-7452042690076662671.html
END:VEVENT
BEGIN:VEVENT
UID:20260422T022828Z-7452042690143771537@eventfrog.at
DTSTAMP:20260422T022828Z
DTSTART:20260506T110000Z
DTEND:20260506T170000Z
SUMMARY:Symbiose der Form: Kunst trifft Materie
DESCRIPTION:Alex Doll und Beat Stähli vereinen expressive Malerei und Holzschnitzerei in einer Ausstellung ab dem 23. April 2026.\n\nhttps://eventfrog.at/de/p/kunst-ausstellungen/ausstellung/symbiose-der-form-kunst-trifft-materie-7452042690143771537.html
LOCATION:Alex Doll Galerie
GEO:46.948204;7.452714
URL:https://eventfrog.at/de/p/kunst-ausstellungen/ausstellung/symbiose-der-form-kunst-trifft-materie-7452042690143771537.html
END:VEVENT
BEGIN:VEVENT
UID:20260422T022828Z-7452042690231851923@eventfrog.at
DTSTAMP:20260422T022828Z
DTSTART:20260507T110000Z
DTEND:20260507T170000Z
SUMMARY:Symbiose der Form: Kunst trifft Materie
DESCRIPTION:Alex Doll und Beat Stähli vereinen expressive Malerei und Holzschnitzerei in einer Ausstellung ab dem 23. April 2026.\n\nhttps://eventfrog.at/de/p/kunst-ausstellungen/ausstellung/symbiose-der-form-kunst-trifft-materie-7452042690231851923.html
LOCATION:Alex Doll Galerie
GEO:46.948204;7.452714
URL:https://eventfrog.at/de/p/kunst-ausstellungen/ausstellung/symbiose-der-form-kunst-trifft-materie-7452042690231851923.html
END:VEVENT
BEGIN:VEVENT
UID:20260422T022828Z-7452042690294766485@eventfrog.at
DTSTAMP:20260422T022828Z
DTSTART:20260508T110000Z
DTEND:20260508T170000Z
SUMMARY:Symbiose der Form: Kunst trifft Materie
DESCRIPTION:Alex Doll und Beat Stähli vereinen expressive Malerei und Holzschnitzerei in einer Ausstellung ab dem 23. April 2026.\n\nhttps://eventfrog.at/de/p/kunst-ausstellungen/ausstellung/symbiose-der-form-kunst-trifft-materie-7452042690294766485.html
LOCATION:Alex Doll Galerie
GEO:46.948204;7.452714
URL:https://eventfrog.at/de/p/kunst-ausstellungen/ausstellung/symbiose-der-form-kunst-trifft-materie-7452042690294766485.html
END:VEVENT
BEGIN:VEVENT
UID:20260422T022828Z-7452042690361875351@eventfrog.at
DTSTAMP:20260422T022828Z
DTSTART:20260509T110000Z
DTEND:20260509T170000Z
SUMMARY:Symbiose der Form: Kunst trifft Materie
DESCRIPTION:Alex Doll und Beat Stähli vereinen expressive Malerei und Holzschnitzerei in einer Ausstellung ab dem 23. April 2026.\n\nhttps://eventfrog.at/de/p/kunst-ausstellungen/ausstellung/symbiose-der-form-kunst-trifft-materie-7452042690361875351.html
LOCATION:Alex Doll Galerie
GEO:46.948204;7.452714
URL:https://eventfrog.at/de/p/kunst-ausstellungen/ausstellung/symbiose-der-form-kunst-trifft-materie-7452042690361875351.html
END:VEVENT
BEGIN:VEVENT
UID:20260422T022828Z-7452042690424789913@eventfrog.at
DTSTAMP:20260422T022828Z
DTSTART:20260510T110000Z
DTEND:20260510T170000Z
SUMMARY:Symbiose der Form: Kunst trifft Materie
DESCRIPTION:Alex Doll und Beat Stähli vereinen expressive Malerei und Holzschnitzerei in einer Ausstellung ab dem 23. April 2026.\n\nhttps://eventfrog.at/de/p/kunst-ausstellungen/ausstellung/symbiose-der-form-kunst-trifft-materie-7452042690424789913.html
LOCATION:Alex Doll Galerie
GEO:46.948204;7.452714
URL:https://eventfrog.at/de/p/kunst-ausstellungen/ausstellung/symbiose-der-form-kunst-trifft-materie-7452042690424789913.html
END:VEVENT
BEGIN:VEVENT
UID:20260422T022828Z-7452042690487704475@eventfrog.at
DTSTAMP:20260422T022828Z
DTSTART:20260511T110000Z
DTEND:20260511T170000Z
SUMMARY:Symbiose der Form: Kunst trifft Materie
DESCRIPTION:Alex Doll und Beat Stähli vereinen expressive Malerei und Holzschnitzerei in einer Ausstellung ab dem 23. April 2026.\n\nhttps://eventfrog.at/de/p/kunst-ausstellungen/ausstellung/symbiose-der-form-kunst-trifft-materie-7452042690487704475.html
LOCATION:Alex Doll Galerie
GEO:46.948204;7.452714
URL:https://eventfrog.at/de/p/kunst-ausstellungen/ausstellung/symbiose-der-form-kunst-trifft-materie-7452042690487704475.html
END:VEVENT
BEGIN:VEVENT
UID:20260422T022828Z-7452042690550619037@eventfrog.at
DTSTAMP:20260422T022828Z
DTSTART:20260512T110000Z
DTEND:20260512T170000Z
SUMMARY:Symbiose der Form: Kunst trifft Materie
DESCRIPTION:Alex Doll und Beat Stähli vereinen expressive Malerei und Holzschnitzerei in einer Ausstellung ab dem 23. April 2026.\n\nhttps://eventfrog.at/de/p/kunst-ausstellungen/ausstellung/symbiose-der-form-kunst-trifft-materie-7452042690550619037.html
LOCATION:Alex Doll Galerie
GEO:46.948204;7.452714
URL:https://eventfrog.at/de/p/kunst-ausstellungen/ausstellung/symbiose-der-form-kunst-trifft-materie-7452042690550619037.html
END:VEVENT
BEGIN:VEVENT
UID:20260422T022828Z-7452042690634505119@eventfrog.at
DTSTAMP:20260422T022828Z
DTSTART:20260513T110000Z
DTEND:20260513T170000Z
SUMMARY:Symbiose der Form: Kunst trifft Materie
DESCRIPTION:Alex Doll und Beat Stähli vereinen expressive Malerei und Holzschnitzerei in einer Ausstellung ab dem 23. April 2026.\n\nhttps://eventfrog.at/de/p/kunst-ausstellungen/ausstellung/symbiose-der-form-kunst-trifft-materie-7452042690634505119.html
LOCATION:Alex Doll Galerie
GEO:46.948204;7.452714
URL:https://eventfrog.at/de/p/kunst-ausstellungen/ausstellung/symbiose-der-form-kunst-trifft-materie-7452042690634505119.html
END:VEVENT
BEGIN:VEVENT
UID:20260422T022828Z-7452042690701613985@eventfrog.at
DTSTAMP:20260422T022828Z
DTSTART:20260514T110000Z
DTEND:20260514T170000Z
SUMMARY:Symbiose der Form: Kunst trifft Materie
DESCRIPTION:Alex Doll und Beat Stähli vereinen expressive Malerei und Holzschnitzerei in einer Ausstellung ab dem 23. April 2026.\n\nhttps://eventfrog.at/de/p/kunst-ausstellungen/ausstellung/symbiose-der-form-kunst-trifft-materie-7452042690701613985.html
LOCATION:Alex Doll Galerie
GEO:46.948204;7.452714
URL:https://eventfrog.at/de/p/kunst-ausstellungen/ausstellung/symbiose-der-form-kunst-trifft-materie-7452042690701613985.html
END:VEVENT
BEGIN:VEVENT
UID:20260422T022828Z-7452042690768722863@eventfrog.at
DTSTAMP:20260422T022828Z
DTSTART:20260515T110000Z
DTEND:20260515T170000Z
SUMMARY:Symbiose der Form: Kunst trifft Materie
DESCRIPTION:Alex Doll und Beat Stähli vereinen expressive Malerei und Holzschnitzerei in einer Ausstellung ab dem 23. April 2026.\n\nhttps://eventfrog.at/de/p/kunst-ausstellungen/ausstellung/symbiose-der-form-kunst-trifft-materie-7452042690768722863.html
LOCATION:Alex Doll Galerie
GEO:46.948204;7.452714
URL:https://eventfrog.at/de/p/kunst-ausstellungen/ausstellung/symbiose-der-form-kunst-trifft-materie-7452042690768722863.html
END:VEVENT
BEGIN:VEVENT
UID:20260422T022828Z-7452042690831637426@eventfrog.at
DTSTAMP:20260422T022828Z
DTSTART:20260516T110000Z
DTEND:20260516T170000Z
SUMMARY:Symbiose der Form: Kunst trifft Materie
DESCRIPTION:Alex Doll und Beat Stähli vereinen expressive Malerei und Holzschnitzerei in einer Ausstellung ab dem 23. April 2026.\n\nhttps://eventfrog.at/de/p/kunst-ausstellungen/ausstellung/symbiose-der-form-kunst-trifft-materie-7452042690831637426.html
LOCATION:Alex Doll Galerie
GEO:46.948204;7.452714
URL:https://eventfrog.at/de/p/kunst-ausstellungen/ausstellung/symbiose-der-form-kunst-trifft-materie-7452042690831637426.html
END:VEVENT
BEGIN:VEVENT
UID:20260422T022828Z-7452042690898746292@eventfrog.at
DTSTAMP:20260422T022828Z
DTSTART:20260517T110000Z
DTEND:20260517T170000Z
SUMMARY:Symbiose der Form: Kunst trifft Materie
DESCRIPTION:Alex Doll und Beat Stähli vereinen expressive Malerei und Holzschnitzerei in einer Ausstellung ab dem 23. April 2026.\n\nhttps://eventfrog.at/de/p/kunst-ausstellungen/ausstellung/symbiose-der-form-kunst-trifft-materie-7452042690898746292.html
LOCATION:Alex Doll Galerie
GEO:46.948204;7.452714
URL:https://eventfrog.at/de/p/kunst-ausstellungen/ausstellung/symbiose-der-form-kunst-trifft-materie-7452042690898746292.html
END:VEVENT
END:VCALENDAR