BEGIN:VCALENDAR
VERSION:2.0
PRODID:EVENTFROG//EVENTGROUP//ICAL
BEGIN:VEVENT
UID:20260424T092340Z-7451991876104671983@eventfrog.at
DTSTAMP:20260424T092340Z
DTSTART:20260519T120000Z
DTEND:20260519T133000Z
SUMMARY:Hirschen-Plauderei «Brücken in meinem Leben»
DESCRIPTION:In lockerer Runde tauschen sich Teilnehmende unter einer Moderatorin zu wechselnden Themen aus. Anschliessend gibt es ein kleines Zvieri.\n\nhttps://eventfrog.at/de/p/diverses/hirschen-plauderei-bruecken-in-meinem-leben-7451991876104671983.html
LOCATION:Haus Hirschen
GEO:47.206758;7.535388
URL:https://eventfrog.at/de/p/diverses/hirschen-plauderei-bruecken-in-meinem-leben-7451991876104671983.html
END:VEVENT
BEGIN:VEVENT
UID:20260424T092340Z-7451991970602317726@eventfrog.at
DTSTAMP:20260424T092340Z
DTSTART:20260609T120000Z
DTEND:20260609T133000Z
SUMMARY:Hirschen-Plauderei «Sommergeschichten
DESCRIPTION:In lockerer Runde tauschen sich Teilnehmende unter einer Moderatorin zu wechselnden Themen aus. Anschliessend gibt es ein kleines Zvieri.\n\nhttps://eventfrog.at/de/p/diverses/hirschen-plauderei-sommergeschichten-7451991970602317726.html
LOCATION:Haus Hirschen
GEO:47.206758;7.535388
URL:https://eventfrog.at/de/p/diverses/hirschen-plauderei-sommergeschichten-7451991970602317726.html
END:VEVENT
BEGIN:VEVENT
UID:20260424T092340Z-7451991970883336944@eventfrog.at
DTSTAMP:20260424T092340Z
DTSTART:20260818T120000Z
DTEND:20260818T133000Z
SUMMARY:Hirschen-Plauderei «Kultur und Kunst»
DESCRIPTION:In lockerer Runde tauschen sich Teilnehmende unter einer Moderatorin zu wechselnden Themen aus. Anschliessend gibt es ein kleines Zvieri.\n\nhttps://eventfrog.at/de/p/diverses/hirschen-plauderei-kultur-und-kunst-7451991970883336944.html
LOCATION:Haus Hirschen
GEO:47.206758;7.535388
URL:https://eventfrog.at/de/p/diverses/hirschen-plauderei-kultur-und-kunst-7451991970883336944.html
END:VEVENT
BEGIN:VEVENT
UID:20260424T092340Z-7451991971017554731@eventfrog.at
DTSTAMP:20260424T092340Z
DTSTART:20261006T120000Z
DTEND:20261006T133000Z
SUMMARY:Hirschen-Plauderei
DESCRIPTION:In lockerer Runde tauschen sich Teilnehmende unter einer Moderatorin zu wechselnden Themen aus. Anschliessend gibt es ein kleines Zvieri.\n\nhttps://eventfrog.at/de/p/diverses/hirschen-plauderei-7451991971017554731.html
LOCATION:Haus Hirschen
GEO:47.206758;7.535388
URL:https://eventfrog.at/de/p/diverses/hirschen-plauderei-7451991971017554731.html
END:VEVENT
BEGIN:VEVENT
UID:20260424T092340Z-7451991971185326902@eventfrog.at
DTSTAMP:20260424T092340Z
DTSTART:20261117T130000Z
DTEND:20261117T143000Z
SUMMARY:Hirschen-Plauderei «Licht und Schatten»
DESCRIPTION:In lockerer Runde tauschen sich Teilnehmende unter einer Moderatorin zu wechselnden Themen aus. Anschliessend gibt es ein kleines Zvieri.\n\nhttps://eventfrog.at/de/p/diverses/hirschen-plauderei-licht-und-schatten-7451991971185326902.html
LOCATION:Haus Hirschen
GEO:47.206758;7.535388
URL:https://eventfrog.at/de/p/diverses/hirschen-plauderei-licht-und-schatten-7451991971185326902.html
END:VEVENT
END:VCALENDAR