BEGIN:VCALENDAR
VERSION:2.0
PRODID:EVENTFROG//EVENTGROUP//ICAL
BEGIN:VEVENT
UID:20260424T211344Z-7451880750356395352@eventfrog.at
DTSTAMP:20260424T211344Z
DTSTART:20260530T123000Z
DTEND:20260530T140000Z
SUMMARY:Die Luzerner Akademie der Künste – Tribut an Scheitlin
DESCRIPTION:Am 30. Mai 2026 feiert die AdK ihr 80-jähriges Jubiläum mit einer festlichen Jahresaufführung.\n\nhttps://eventfrog.at/en/p/theatre-stage/dance/die-luzerner-akademie-der-kuenste-tribut-an-scheitlin-7451880750356395352.html
LOCATION:Theater Pavillon Luzern
GEO:47.042581;8.319478
URL:https://eventfrog.at/en/p/theatre-stage/dance/die-luzerner-akademie-der-kuenste-tribut-an-scheitlin-7451880750356395352.html
END:VEVENT
BEGIN:VEVENT
UID:20260424T211344Z-7451882103229157332@eventfrog.at
DTSTAMP:20260424T211344Z
DTSTART:20260530T160000Z
DTEND:20260530T173000Z
SUMMARY:Die Luzerner Akademie der Künste – Tribut an Scheitlin
DESCRIPTION:Am 30. Mai 2026 feiert die AdK ihr 80-jähriges Jubiläum mit einer festlichen Jahresaufführung und Tanz von Atelier Rainbow.\n\nhttps://eventfrog.at/en/p/theatre-stage/dance/die-luzerner-akademie-der-kuenste-tribut-an-scheitlin-7451882103229157332.html
LOCATION:Theater Pavillon Luzern
GEO:47.042581;8.319478
URL:https://eventfrog.at/en/p/theatre-stage/dance/die-luzerner-akademie-der-kuenste-tribut-an-scheitlin-7451882103229157332.html
END:VEVENT
END:VCALENDAR